BEGIN:VCALENDAR
VERSION:2.0
PRODID:-//Bendigo Blues &amp; Roots - ECPv6.15.18//NONSGML v1.0//EN
CALSCALE:GREGORIAN
METHOD:PUBLISH
X-ORIGINAL-URL:https://bendigoblues.com
X-WR-CALDESC:Events for Bendigo Blues &amp; Roots
REFRESH-INTERVAL;VALUE=DURATION:PT1H
X-Robots-Tag:noindex
X-PUBLISHED-TTL:PT1H
BEGIN:VTIMEZONE
TZID:Australia/Melbourne
BEGIN:STANDARD
TZOFFSETFROM:+1100
TZOFFSETTO:+1000
TZNAME:AEST
DTSTART:20150404T160000
END:STANDARD
BEGIN:DAYLIGHT
TZOFFSETFROM:+1000
TZOFFSETTO:+1100
TZNAME:AEDT
DTSTART:20151003T160000
END:DAYLIGHT
BEGIN:STANDARD
TZOFFSETFROM:+1100
TZOFFSETTO:+1000
TZNAME:AEST
DTSTART:20160402T160000
END:STANDARD
BEGIN:DAYLIGHT
TZOFFSETFROM:+1000
TZOFFSETTO:+1100
TZNAME:AEDT
DTSTART:20161001T160000
END:DAYLIGHT
BEGIN:STANDARD
TZOFFSETFROM:+1100
TZOFFSETTO:+1000
TZNAME:AEST
DTSTART:20170401T160000
END:STANDARD
BEGIN:DAYLIGHT
TZOFFSETFROM:+1000
TZOFFSETTO:+1100
TZNAME:AEDT
DTSTART:20170930T160000
END:DAYLIGHT
END:VTIMEZONE
BEGIN:VEVENT
DTSTART;TZID=Australia/Melbourne:20160910T140000
DTEND;TZID=Australia/Melbourne:20160910T161500
DTSTAMP:20260424T063009
CREATED:20160618T113417Z
LAST-MODIFIED:20170524T090651Z
UID:1263-1473516000-1473524100@bendigoblues.com
SUMMARY:Blues Tram\, feat: White Lightning + Graciana Holland
DESCRIPTION:Take in up close and personal performances from White Lighting and Graciana Holland as you ride through the streets of Bendigo aboard the historic Blues Tram. \nThere’s a unique way to enjoying live music as part of the Bendigo Blues & Roots Music Festival: the Blues Tram. This exciting new concept combines two of Bendigo’s best attractions- its historic trams and sublime music talent. \nEnjoy a relaxed drink at Central Deborah Goldmine\, before boarding the tram and leisurely rolling through the streets of the city as some of the festival’s finest talent performs\, up close and personal. \nAfter taking a pit stop at the Joss House\, the tram then turns back towards the mine. \nThe trams have been a big hit with music lovers so far\, and Festival director Colin Thompson said the trams were not to be missed: “The Blues Tram offers a truly unique experience\, which you simply won’t find anywhere else.” \nTickets are limited and can be purchased from the Visitor Centre on 1800 813 513 or you can book here.
URL:https://bendigoblues.com/event/blues-tram-feat-white-lightning-sleepy-west/
LOCATION:Departs from Central Deborah Goldmine\, 76 Violet Street\, Bendigo\, Victoria\, 3550\, Australia
CATEGORIES:The Blues Tram
ATTACH;FMTTYPE=image/png:https://bendigoblues.com/wp-content/uploads/2016/06/Blues-Tram-White-Lighting-Graciana-Holland-1.png
END:VEVENT
END:VCALENDAR