BEGIN:VCALENDAR
VERSION:2.0
PRODID:-//Bendigo Blues &amp; Roots - ECPv6.15.18//NONSGML v1.0//EN
CALSCALE:GREGORIAN
METHOD:PUBLISH
X-ORIGINAL-URL:https://bendigoblues.com
X-WR-CALDESC:Events for Bendigo Blues &amp; Roots
REFRESH-INTERVAL;VALUE=DURATION:PT1H
X-Robots-Tag:noindex
X-PUBLISHED-TTL:PT1H
BEGIN:VTIMEZONE
TZID:Australia/Melbourne
BEGIN:STANDARD
TZOFFSETFROM:+1100
TZOFFSETTO:+1000
TZNAME:AEST
DTSTART:20160402T160000
END:STANDARD
BEGIN:DAYLIGHT
TZOFFSETFROM:+1000
TZOFFSETTO:+1100
TZNAME:AEDT
DTSTART:20161001T160000
END:DAYLIGHT
BEGIN:STANDARD
TZOFFSETFROM:+1100
TZOFFSETTO:+1000
TZNAME:AEST
DTSTART:20170401T160000
END:STANDARD
BEGIN:DAYLIGHT
TZOFFSETFROM:+1000
TZOFFSETTO:+1100
TZNAME:AEDT
DTSTART:20170930T160000
END:DAYLIGHT
BEGIN:STANDARD
TZOFFSETFROM:+1100
TZOFFSETTO:+1000
TZNAME:AEST
DTSTART:20180331T160000
END:STANDARD
BEGIN:DAYLIGHT
TZOFFSETFROM:+1000
TZOFFSETTO:+1100
TZNAME:AEDT
DTSTART:20181006T160000
END:DAYLIGHT
END:VTIMEZONE
BEGIN:VEVENT
DTSTART;TZID=Australia/Melbourne:20170819T140000
DTEND;TZID=Australia/Melbourne:20170819T170000
DTSTAMP:20260421T152942
CREATED:20170731T005102Z
LAST-MODIFIED:20170819T152429Z
UID:3535-1503151200-1503162000@bendigoblues.com
SUMMARY:The Blues Tram w/Matt Katsis + Smith & Sheehan
DESCRIPTION:A genuinely bluesy ride awaits on our August 2017 Tram\, as the amazing Matt Katsis makes his Blues Tram debut\, as do the classy veterans Smith & Sheehan; \nEnjoy the sights of Bendigo’s architecturally stunning CBD from on board the sensationally restored vintage W Class tram\, while being suitably entertained by these two great acts: \nMatt Katsis:\nMelbourne singer/songwriter & guitarist Matt Katsis’ music ranges from delicate folk balladry to foot stomping down-home blues.\nThose who have seen Matt live will recall his raw vocals and command of the acoustic guitar. Matched with a one-man-band approach to his performances through the use of percussive elements of the guitar\, stomp box\, tambourine and creating loop layers – this together has become the cornerstone of Matt’s live blend of blues\, roots & folk-stirred music\, which has been heard on numerous Australian stages and festival line-ups and at iconic venues.\nMatt recently released and is currently touring his latest EP ‘As The River Runs’. \nSmith & Sheehan:\nMark Smith &  Marni Sheehan play rootsy blues\, alt and vintage country\, and originals featuring acoustic\, dobro and electric guitars\, mandolin\, banjo and percussion.  Their experience as performing musicians brings authenticity and depth to the material.  Audiences enjoy the sparkle\, humour and  occasional dark moment this act offers.\nMark Smith has played in the Oz music scene for over 40 years and has a great love and talent as a blues player. Marni Sheehan’s musical background spans folk\, blues\, country music\, rock and as a songwriter.  She has released two albums of original songs Critters & Specimens (2004) and Inside Stories (2007). In 2015 Mark and Marni teamed up with Dave Sheehan and released an album – ‘Down in the Valley’\, a collection of songs dealing with love\, hate\, sex\, death\, injustice and survival.  They are planning a new album release as a duo with guests. \nSaturday August 19th\nBlues Tram\, feat: Matt Katsis + Smith & Sheehan\nDeparting Central Deborah Goldmine (76 Violet Street) at 2pm\, returning 4:15pm.\nTix: $35 from Bendigo Visitor Centre 1800 813 513 or\nhttp://www.bendigotourism.com/bendigo-blues-tram\nFollow The Blues Tram here: https://www.facebook.com/TheBluesTram \nStrictly no BYO – drinks and snacks are available for purchase. \nThe Blues Tram is organised and staged by Bendigo Blues & Roots Music Festival Inc\, a not-for-profit organisation run by volunteers. \nPlease Note:\nThis is a music appreciation event. For the enjoyment of all patrons\, any rowdy or loud behaviour will not be tolerated. Event management reserves the right to refuse admission or evict patrons if requests to manage behaviour are not complied with; in this unlikely event\, tickets of offenders will be forfeited and no refund will be available.
URL:https://bendigoblues.com/event/the-blues-tram-wmatt-katsis-smith-sheehan-2/
LOCATION:The Blues Tram\, 76 Violet Street\, Bendigo\, VIC\, 3550\, Australia
CATEGORIES:The Blues Tram
ATTACH;FMTTYPE=image/jpeg:https://bendigoblues.com/wp-content/uploads/2017/08/1ef592fbf3d073a725b4cb64265348ee.jpg
END:VEVENT
END:VCALENDAR