BEGIN:VCALENDAR
VERSION:2.0
PRODID:-//Bendigo Blues &amp; Roots - ECPv6.15.18//NONSGML v1.0//EN
CALSCALE:GREGORIAN
METHOD:PUBLISH
X-ORIGINAL-URL:https://bendigoblues.com
X-WR-CALDESC:Events for Bendigo Blues &amp; Roots
REFRESH-INTERVAL;VALUE=DURATION:PT1H
X-Robots-Tag:noindex
X-PUBLISHED-TTL:PT1H
BEGIN:VTIMEZONE
TZID:Australia/Melbourne
BEGIN:STANDARD
TZOFFSETFROM:+1100
TZOFFSETTO:+1000
TZNAME:AEST
DTSTART:20160402T160000
END:STANDARD
BEGIN:DAYLIGHT
TZOFFSETFROM:+1000
TZOFFSETTO:+1100
TZNAME:AEDT
DTSTART:20161001T160000
END:DAYLIGHT
BEGIN:STANDARD
TZOFFSETFROM:+1100
TZOFFSETTO:+1000
TZNAME:AEST
DTSTART:20170401T160000
END:STANDARD
BEGIN:DAYLIGHT
TZOFFSETFROM:+1000
TZOFFSETTO:+1100
TZNAME:AEDT
DTSTART:20170930T160000
END:DAYLIGHT
BEGIN:STANDARD
TZOFFSETFROM:+1100
TZOFFSETTO:+1000
TZNAME:AEST
DTSTART:20180331T160000
END:STANDARD
BEGIN:DAYLIGHT
TZOFFSETFROM:+1000
TZOFFSETTO:+1100
TZNAME:AEDT
DTSTART:20181006T160000
END:DAYLIGHT
END:VTIMEZONE
BEGIN:VEVENT
DTSTART;TZID=Australia/Melbourne:20170916T140000
DTEND;TZID=Australia/Melbourne:20170916T163000
DTSTAMP:20260421T135426
CREATED:20170607T033835Z
LAST-MODIFIED:20170916T194939Z
UID:3181-1505570400-1505579400@bendigoblues.com
SUMMARY:The Blues Tram w/Geoffrey Williams + DIGG
DESCRIPTION:Our September 2017 Tram is a bitter sweet event for the Bendigo Blues & Roots scene as young Bendigo talents DIGG – Band make their Blues Tram debut\, but also perform for the last time together as a band.  We also feature seasoned soul performer; Geoffrey Williams returning to the Blues Tram after being a massive hit for us previously in 2016. \nEnjoy the sights of Bendigo’s architecturally stunning CBD from on board the sensationally restored vintage W Class tram\, while being suitably entertained by these two great acts: \nGeoffrey Williams:\nMuch loved UK singer & loop artist Geoffrey Williams dishes up some soulful delectations of 60s/70s inspired blues\, rhythm and soul\, all with a Caribbean twist! Expect to be mesmerised by sweet melodies and irresistible grooves. He has written songs for artists incl Michael Jackson and Dusty Springfield & performed at Wembley Arena\, Woodford Folk Festival\, Montreux Jazz Festival and the last 2 year’s Bendigo Blues & Roots Festival. Catch him and you won’t regret it! \nDIGG:\nDIGG is a local three piece blues and folk band made up of sisters Gemma and Izzy Goldsmith and their cousin Dan Simons. Blending rhythmic and bluesy acoustic guitar\, funky bass lines and soulful vocals\, DIGG make for a surprisingly powerful experience. \nSaturday September 16th\nBlues Tram\, feat: Geoffrey Williams + DIGG\nDeparting Central Deborah Goldmine (76 Violet Street) at 2pm\, returning 4:15pm.\nTix: $35 from Bendigo Visitor Centre 1800 813 513 or\nhttp://www.bendigotourism.com/bendigo-blues-tram\nFollow The Blues Tram here: https://www.facebook.com/TheBluesTram \nStrictly no BYO – drinks and snacks are available for purchase. \nThe Blues Tram is organised and staged by Bendigo Blues & Roots Music Festival Inc\, a not-for-profit organisation run by volunteers. \nPlease Note:\nThis is a music appreciation event. For the enjoyment of all patrons\, any rowdy or loud behaviour will not be tolerated. If you don’t think you can resist talking during performances\, perhaps this event is not for you.  Event management reserves the right to refuse admission or evict patrons if requests to manage noise levels or other behaviour are not complied with; in this unlikely event\, tickets of offenders will be forfeited and no refund will be available.
URL:https://bendigoblues.com/event/the-blues-tram-wgeoffrey-williams-digg/
LOCATION:The Blues Tram\, 76 Violet Street\, Bendigo\, VIC\, 3550\, Australia
CATEGORIES:The Blues Tram
ATTACH;FMTTYPE=image/jpeg:https://bendigoblues.com/wp-content/uploads/2017/09/1dedb3af5371dc67062974fbe6be091d.jpg
END:VEVENT
END:VCALENDAR