BEGIN:VCALENDAR
VERSION:2.0
PRODID:-//Bendigo Blues &amp; Roots - ECPv6.15.18//NONSGML v1.0//EN
CALSCALE:GREGORIAN
METHOD:PUBLISH
X-ORIGINAL-URL:https://bendigoblues.com
X-WR-CALDESC:Events for Bendigo Blues &amp; Roots
REFRESH-INTERVAL;VALUE=DURATION:PT1H
X-Robots-Tag:noindex
X-PUBLISHED-TTL:PT1H
BEGIN:VTIMEZONE
TZID:UTC
BEGIN:STANDARD
TZOFFSETFROM:+0000
TZOFFSETTO:+0000
TZNAME:UTC
DTSTART:20170101T000000
END:STANDARD
END:VTIMEZONE
BEGIN:VEVENT
DTSTART;TZID=UTC:20180210T140000
DTEND;TZID=UTC:20180210T161500
DTSTAMP:20260421T065424
CREATED:20171122T233823Z
LAST-MODIFIED:20180120T093515Z
UID:5317-1518271200-1518279300@bendigoblues.com
SUMMARY:The Blues Tram w/Hailey Calvert + Ben J Carter
DESCRIPTION:We’re hosting two of the classiest acts you’re likely to hear anywhere on our February 2018 Tram\, a soulful powerhouse from Queensland in Hailey Calvert (w/Jason Cameron) and a bluesy folky singer/songwriter from Melbourne\, Ben J Carter. \nEnjoy the sights of Bendigo’s architecturally stunning CBD from on board the sensationally restored vintage W Class tram\, while being serenaded by two amazing acts: \nHailey Calvert:\nOwning a bluesy\, rich voice and fluid guitar style has earned Brisbane’s Hailey Calvert many fans as well as turning her into a festival favourite.  Two EP’s\, one album and countless charismatic live shows into her career\, Hailey is an unforgettable performer showing no signs of slowing down. \nBen J. Carter:\nBen is a Melbourne based Blues/Folk guitarist playing Resonator\, Acoustic and Lap steel guitars along with his trusty stomp box to create punchy foot stompin` Blues.\nBen`s music is a mix of original crafted songs and his take on 1920`s bottleneck slide Delta Blues. Always energetic\, up tempo and spontaneous. \nSaturday February 10th\nBlues Tram\, feat: Hailey Calvert w/Jason Cameron + Ben J Carter\nDeparting Central Deborah Goldmine (76 Violet Street) at 2pm\, returning 4:15pm.\nTix: $35 from Bendigo Visitor Centre 1800 813 513 or http://www.bendigotourism.com/tours/bendigo-cbd/bendigo-blues-tram\nFollow The Blues Tram here: https://www.facebook.com/TheBluesTram \nStrictly no BYO – drinks and snacks available for purchase. \nThe Blues Tram is organised and staged by Bendigo Blues & Roots Music Festival Inc\, a not-for-profit organisation run by volunteers. \nPlease Note:\nThis is a music appreciation event. For the enjoyment of all patrons\, any rowdy or loud behaviour will not be tolerated. Event management reserves the right to refuse admission or evict patrons if requests to manage behaviour are not complied with; in this unlikely event\, tickets of offenders will be forfeited and no refund will be available.
URL:https://bendigoblues.com/event/the-blues-tram-w-hailey-calvert-ben-j-carter/
LOCATION:The Blues Tram\, 76 Violet Street\, Bendigo\, VIC\, 3550\, Australia
CATEGORIES:The Blues Tram
ATTACH;FMTTYPE=image/jpeg:https://bendigoblues.com/wp-content/uploads/2018/01/bbb123e110c67e191f4924c7170a564c.jpg
END:VEVENT
END:VCALENDAR