BEGIN:VCALENDAR
VERSION:2.0
PRODID:-//Bendigo Blues &amp; Roots - ECPv6.15.18//NONSGML v1.0//EN
CALSCALE:GREGORIAN
METHOD:PUBLISH
X-WR-CALNAME:Bendigo Blues &amp; Roots
X-ORIGINAL-URL:https://bendigoblues.com
X-WR-CALDESC:Events for Bendigo Blues &amp; Roots
REFRESH-INTERVAL;VALUE=DURATION:PT1H
X-Robots-Tag:noindex
X-PUBLISHED-TTL:PT1H
BEGIN:VTIMEZONE
TZID:Australia/Melbourne
BEGIN:STANDARD
TZOFFSETFROM:+1100
TZOFFSETTO:+1000
TZNAME:AEST
DTSTART:20170401T160000
END:STANDARD
BEGIN:DAYLIGHT
TZOFFSETFROM:+1000
TZOFFSETTO:+1100
TZNAME:AEDT
DTSTART:20170930T160000
END:DAYLIGHT
BEGIN:STANDARD
TZOFFSETFROM:+1100
TZOFFSETTO:+1000
TZNAME:AEST
DTSTART:20180331T160000
END:STANDARD
BEGIN:DAYLIGHT
TZOFFSETFROM:+1000
TZOFFSETTO:+1100
TZNAME:AEDT
DTSTART:20181006T160000
END:DAYLIGHT
BEGIN:STANDARD
TZOFFSETFROM:+1100
TZOFFSETTO:+1000
TZNAME:AEST
DTSTART:20190406T160000
END:STANDARD
BEGIN:DAYLIGHT
TZOFFSETFROM:+1000
TZOFFSETTO:+1100
TZNAME:AEDT
DTSTART:20191005T160000
END:DAYLIGHT
END:VTIMEZONE
BEGIN:VEVENT
DTSTART;TZID=Australia/Melbourne:20180414T140000
DTEND;TZID=Australia/Melbourne:20180414T161500
DTSTAMP:20260421T035808
CREATED:20171122T233946Z
LAST-MODIFIED:20180411T021705Z
UID:5327-1523714400-1523722500@bendigoblues.com
SUMMARY:The Blues Tram w/Emilee South + Jarrod Shaw
DESCRIPTION:We’re hosting two fan favourites on our April Blues Tram\, Emilee South and Jarrod Shaw! \nEnjoy the sights of Bendigo’s architecturally stunning CBD from on board the sensationally restored vintage W Class tram\, while being serenaded by two great acts: \nEmilee South:\nWith powerful vocals and fierce guitar playing\, Emilee South hollers throwback rock’n’roll\, with hints of voodoo\, unrequited love\, and small-town guilt.\nFollowing her first release\, ‘Aloha\, Au Revoir’\, Emilee has been touring as a two-piece\, with baritone-slinging Matt Dixon.\nThe pair have been making interstate debuts with shows & festivals in Sydney\, Adelaide and Perth\, as well as playing support to the likes of Ruby Boots\, WILSN\, Skyscraper Stan & The Commission Flats\, and James Kenyon.\nBack in Melbourne\, they were straight in to the studio to record Emilee’s sophomore EP\, ‘MOTEL’.\nRecorded live over two days at The Aviary Recording Studio\, ‘MOTEL’ features Matt Dixon on Baritone Guitar\, Josh Barber on Drums and Ben Franz on Double Bass.\nProducing a sound much darker\, a little dirtier and a lot more rock’n’roll than her debut.\nWith a slew of special guest vocalists\, such as Al Parkinson\, Broads and Skyscraper Stan\, the songs lay comfortably on a bed of velvet backing vocals.\nFollowing the release of the feverish first single\, ‘Howl’\, ‘MOTEL’ was released with a bang through Fever Shake Records in May 2017. \nJarrod Shaw:\nJarrod Shaw possesses a passion and appreciation for blues music that becomes obvious from the moment the first note sounds. He delivers a soulful blues inspired show\, performed with conviction.\nJarrod was born and raised in country Victoria\, down the dirt roads of the Macedon Ranges. He taught himself to play guitar listening to the renowned blues greats\, as well as the icons of the Australian and local Melbourne blues scene.\nPerforming countless solo gigs has aided Jarrod in developing a musical style of his own. He blends his unique guitar approach lying somewhere between piedmont fingerstyle and the blues of the delta\, with a powerful voice often described as belying his years. At times he even wails away on a racked blues harp – all at once without missing a beat. If you close your eyes you might even believe there’s more than one person performing… \nSaturday April 14th\nBlues Tram\, feat: Emilee South + Jarrod Shaw\nDeparting Central Deborah Goldmine (76 Violet Street) at 2pm\, returning 4:15pm.\nTix: $35 from Bendigo Visitor Centre 1800 813 513 or https://www.bendigotourism.com/tours/bendigo-cbd/bendigo-blues-tram\nFollow The Blues Tram here: https://www.facebook.com/TheBluesTram \nStrictly no BYO. Drinks and snacks available for purchase. \nThe Blues Tram is organised and staged by Bendigo Blues & Roots Music Festival Inc\, a not-for-profit organisation run by volunteers. \nPlease Note:\nThis is a music appreciation event – a mobile concert. For the enjoyment of all patrons\, any rowdy or loud behaviour will not be tolerated. Event management reserves the right to refuse admission or evict patrons if requests to manage behaviour are not complied with; in this unlikely event\, tickets of offenders will be forfeited and no refund will be available.
URL:https://bendigoblues.com/event/the-blues-tram-w-emilee-south-jarrod-shaw/
LOCATION:The Blues Tram\, 76 Violet Street\, Bendigo\, VIC\, 3550\, Australia
CATEGORIES:The Blues Tram
ATTACH;FMTTYPE=image/jpeg:https://bendigoblues.com/wp-content/uploads/2018/03/bf153b25a592a54d6d2875eb43f5e79f.jpg
END:VEVENT
END:VCALENDAR