BEGIN:VCALENDAR
VERSION:2.0
PRODID:-//Bendigo Blues &amp; Roots - ECPv6.15.18//NONSGML v1.0//EN
CALSCALE:GREGORIAN
METHOD:PUBLISH
X-WR-CALNAME:Bendigo Blues &amp; Roots
X-ORIGINAL-URL:https://bendigoblues.com
X-WR-CALDESC:Events for Bendigo Blues &amp; Roots
REFRESH-INTERVAL;VALUE=DURATION:PT1H
X-Robots-Tag:noindex
X-PUBLISHED-TTL:PT1H
BEGIN:VTIMEZONE
TZID:Australia/Melbourne
BEGIN:STANDARD
TZOFFSETFROM:+1100
TZOFFSETTO:+1000
TZNAME:AEST
DTSTART:20170401T160000
END:STANDARD
BEGIN:DAYLIGHT
TZOFFSETFROM:+1000
TZOFFSETTO:+1100
TZNAME:AEDT
DTSTART:20170930T160000
END:DAYLIGHT
BEGIN:STANDARD
TZOFFSETFROM:+1100
TZOFFSETTO:+1000
TZNAME:AEST
DTSTART:20180331T160000
END:STANDARD
BEGIN:DAYLIGHT
TZOFFSETFROM:+1000
TZOFFSETTO:+1100
TZNAME:AEDT
DTSTART:20181006T160000
END:DAYLIGHT
BEGIN:STANDARD
TZOFFSETFROM:+1100
TZOFFSETTO:+1000
TZNAME:AEST
DTSTART:20190406T160000
END:STANDARD
BEGIN:DAYLIGHT
TZOFFSETFROM:+1000
TZOFFSETTO:+1100
TZNAME:AEDT
DTSTART:20191005T160000
END:DAYLIGHT
END:VTIMEZONE
BEGIN:VEVENT
DTSTART;TZID=Australia/Melbourne:20180512T140000
DTEND;TZID=Australia/Melbourne:20180512T161500
DTSTAMP:20260421T023452
CREATED:20171126T231857Z
LAST-MODIFIED:20180411T021453Z
UID:5376-1526133600-1526141700@bendigoblues.com
SUMMARY:The Blues Tram w/Jo Jo Smith + Doc White
DESCRIPTION:A genuine bluesman in Doc White and a queen of soul in Jo Jo Smith with deliver a very special Blues Tram experience on 12 May! \nEnjoy the sights of Bendigo’s architecturally stunning CBD from on board the sensationally restored vintage W Class tram\, while being serenaded by two great acts: \nJo Jo Smith:\nJo Jo Smith singer / songwriter / musician. Across the genres soul funk Blues Latin jazz R&B. ” Jo Jo has a stage presence that special singers possess. No histrionics just a deep connection with audience and musicians. An elastic voice – demure one minute\, tough and decisive the next “. Jo Jo has a feel and groove that touches people deeply. The Jo Jo Smith musical experience is like a breath of fresh air. \nDoc White:\nDoc is a musician\, songwriter\, actor and playwright who grew up in Adelaide at a time when some of the most bizarre murders in the country were being committed. As a result of an unfortunate series of seemingly random events\, a copy of Lightning Hopkins first Arhoolie record landed on his old HMV record player and the gloom was lifted. A lifelong and\, some would say\, unhealthy interest in blues and true crime evolved that has remained to this day.\nDoc plays country blues like the devil (who was an early fan) and is one of the few modern blues artists to adopt the mandolin\, despite it being an instrument that is nearly impossible to tune.\nDoc’s music has been played on ABC Radio and he has been featured on The Planet and in Rhythms Magazine.\nDoc’s tune Cropduster Blues was voted Song of the Year at the 2004 Melbourne Blues Appreciation Society Vic/Tas Blues Awards. \nSaturday May 14th\nBlues Tram\, feat: Jo Jo Smith + Doc White\nDeparting Central Deborah Goldmine (76 Violet Street) at 2pm\, returning 4:15pm.\nTix: $35 from Bendigo Visitor Centre 1800 813 513 or https://www.bendigotourism.com/tours/bendigo-cbd/bendigo-blues-tram\nFollow The Blues Tram here: https://www.facebook.com/TheBluesTram \nStrictly no BYO. Drinks and snacks available for purchase. \nThe Blues Tram is organised and staged by Bendigo Blues & Roots Music Festival Inc\, a not-for-profit organisation run by volunteers. \nPlease Note:\nThis is a music appreciation event – a mobile concert. For the enjoyment of all patrons\, any rowdy or loud behaviour will not be tolerated. Event management reserves the right to refuse admission or evict patrons if requests to manage behaviour are not complied with; in this unlikely event\, tickets of offenders will be forfeited and no refund will be available.
URL:https://bendigoblues.com/event/the-blues-tram-w-jo-jo-smith-doc-white/
LOCATION:The Blues Tram\, 76 Violet Street\, Bendigo\, VIC\, 3550\, Australia
CATEGORIES:The Blues Tram
ATTACH;FMTTYPE=image/jpeg:https://bendigoblues.com/wp-content/uploads/2018/04/6177da1327773bff8e5c1faf1d98277a.jpg
END:VEVENT
END:VCALENDAR