BEGIN:VCALENDAR
VERSION:2.0
PRODID:-//Bendigo Blues &amp; Roots - ECPv6.15.18//NONSGML v1.0//EN
CALSCALE:GREGORIAN
METHOD:PUBLISH
X-ORIGINAL-URL:https://bendigoblues.com
X-WR-CALDESC:Events for Bendigo Blues &amp; Roots
REFRESH-INTERVAL;VALUE=DURATION:PT1H
X-Robots-Tag:noindex
X-PUBLISHED-TTL:PT1H
BEGIN:VTIMEZONE
TZID:Australia/Melbourne
BEGIN:STANDARD
TZOFFSETFROM:+1100
TZOFFSETTO:+1000
TZNAME:AEST
DTSTART:20170401T160000
END:STANDARD
BEGIN:DAYLIGHT
TZOFFSETFROM:+1000
TZOFFSETTO:+1100
TZNAME:AEDT
DTSTART:20170930T160000
END:DAYLIGHT
BEGIN:STANDARD
TZOFFSETFROM:+1100
TZOFFSETTO:+1000
TZNAME:AEST
DTSTART:20180331T160000
END:STANDARD
BEGIN:DAYLIGHT
TZOFFSETFROM:+1000
TZOFFSETTO:+1100
TZNAME:AEDT
DTSTART:20181006T160000
END:DAYLIGHT
BEGIN:STANDARD
TZOFFSETFROM:+1100
TZOFFSETTO:+1000
TZNAME:AEST
DTSTART:20190406T160000
END:STANDARD
BEGIN:DAYLIGHT
TZOFFSETFROM:+1000
TZOFFSETTO:+1100
TZNAME:AEDT
DTSTART:20191005T160000
END:DAYLIGHT
END:VTIMEZONE
BEGIN:VEVENT
DTSTART;TZID=Australia/Melbourne:20180609T140000
DTEND;TZID=Australia/Melbourne:20180609T161500
DTSTAMP:20260421T011036
CREATED:20171206T234626Z
LAST-MODIFIED:20180411T021451Z
UID:5475-1528552800-1528560900@bendigoblues.com
SUMMARY:The Blues Tram w/Josh Owen + Sarah Wilkinson
DESCRIPTION:A king of soul\, reggae and roots with a young singer/guitarist who will leave you breathless – Josh Owen and Sarah Wilkinson will deliver a very special Blues Tram experience on 9 June. \nEnjoy the sights of Bendigo’s architecturally stunning CBD from on board the sensationally restored vintage W Class tram\, while being serenaded by two great acts: \nJosh Owen:\nJosh is a hugely respected amongst his peers and discerning music fans as guitarist\, singer\, songwriter and performer.\nBe it in solo mode or with his white-hot band\, Owen always shines. His outstanding musical talent has shone alongside the likes of Jamaican Reggae legend Earnest Ranglin\, US songstress Toni Childs and the Unconscious Brothers\, who comprise some of Australia’s finest and most in demand musicians.\nOwen’s solo performances accentuate his wonderful gift for storytelling\, as well as his warmth of spirit and observational song writing\, while showcasing his absolute mastery of the guitar. \nSarah Wilkinson:\nSarah Wilkinson began playing guitar and writing songs when she was 13 years old. She quickly began performing around her local Macedon Ranges area\, and gathered several awards early on including the Maldon Minstrel award and Macedon Ranges youth award – both when she was just 16. Since then\, Sarah’s incredible voice and unique guitar style have been leaving audiences spellbound across Victoria.. \nSaturday June 9th\nBlues Tram\, feat: Josh Owen + Sarah Wilkinson\nDeparting Central Deborah Goldmine (76 Violet Street) at 2pm\, returning 4:15pm.\nTix: $35 from Bendigo Visitor Centre 1800 813 513 or https://www.bendigotourism.com/tours/bendigo-cbd/bendigo-blues-tram\nFollow The Blues Tram here: https://www.facebook.com/TheBluesTram \nStrictly no BYO. Drinks and snacks available for purchase. \nThe Blues Tram is organised and staged by Bendigo Blues & Roots Music Festival Inc\, a not-for-profit organisation run by volunteers. \nPlease Note:\nThis is a music appreciation event – a mobile concert. For the enjoyment of all patrons\, any rowdy or loud behaviour will not be tolerated. Event management reserves the right to refuse admission or evict patrons if requests to manage behaviour are not complied with; in this unlikely event\, tickets of offenders will be forfeited and no refund will be available.
URL:https://bendigoblues.com/event/the-blues-tram-w-josh-owen-sarah-wilkinson-2/
LOCATION:The Blues Tram\, 76 Violet Street\, Bendigo\, VIC\, 3550\, Australia
CATEGORIES:The Blues Tram
ATTACH;FMTTYPE=image/jpeg:https://bendigoblues.com/wp-content/uploads/2018/04/18c3f26516d16348e41588cd01f181c6.jpg
END:VEVENT
END:VCALENDAR