BEGIN:VCALENDAR
VERSION:2.0
PRODID:-//Bendigo Blues &amp; Roots - ECPv6.15.18//NONSGML v1.0//EN
CALSCALE:GREGORIAN
METHOD:PUBLISH
X-WR-CALNAME:Bendigo Blues &amp; Roots
X-ORIGINAL-URL:https://bendigoblues.com
X-WR-CALDESC:Events for Bendigo Blues &amp; Roots
REFRESH-INTERVAL;VALUE=DURATION:PT1H
X-Robots-Tag:noindex
X-PUBLISHED-TTL:PT1H
BEGIN:VTIMEZONE
TZID:Australia/Melbourne
BEGIN:STANDARD
TZOFFSETFROM:+1100
TZOFFSETTO:+1000
TZNAME:AEST
DTSTART:20170401T160000
END:STANDARD
BEGIN:DAYLIGHT
TZOFFSETFROM:+1000
TZOFFSETTO:+1100
TZNAME:AEDT
DTSTART:20170930T160000
END:DAYLIGHT
BEGIN:STANDARD
TZOFFSETFROM:+1100
TZOFFSETTO:+1000
TZNAME:AEST
DTSTART:20180331T160000
END:STANDARD
BEGIN:DAYLIGHT
TZOFFSETFROM:+1000
TZOFFSETTO:+1100
TZNAME:AEDT
DTSTART:20181006T160000
END:DAYLIGHT
BEGIN:STANDARD
TZOFFSETFROM:+1100
TZOFFSETTO:+1000
TZNAME:AEST
DTSTART:20190406T160000
END:STANDARD
BEGIN:DAYLIGHT
TZOFFSETFROM:+1000
TZOFFSETTO:+1100
TZNAME:AEDT
DTSTART:20191005T160000
END:DAYLIGHT
END:VTIMEZONE
BEGIN:VEVENT
DTSTART;TZID=Australia/Melbourne:20180714T140000
DTEND;TZID=Australia/Melbourne:20180714T161500
DTSTAMP:20260420T235617
CREATED:20171207T234447Z
LAST-MODIFIED:20180411T020135Z
UID:5489-1531576800-1531584900@bendigoblues.com
SUMMARY:The Blues Tram w/Alister Turrill + Sherri Parry
DESCRIPTION:Two young performers – one a rising star on the Australian Blues scene and the other a promising singer/songwriter with a voice to sooth the most savage beast. \nEnjoy the sights of Bendigo’s architecturally stunning CBD from on board the sensationally restored vintage W Class tram\, while being serenaded by two great acts: \nAlister Turrill Music:\n“Alister is a songwriter of the highest order and a sign that the future of Australian blues is in good hands.” – Lloyd Spiegel Music\, Premier Endorsee Cole Clark Guitars.\nAlister Turrill’s playing style blends a true form of blues with complex song writing seldom seen in someone so young.\nFollowing his award winning 2013 debut album ‘Reverence & Reverence’\, and 2015 single release ‘Road To The Grave’ comes the brand new EP ‘A Toast To Better Times’.\nA stripped-back modern folk/country blues record where the quality of his songwriting is bared for all.\nHonest\, Flawed\, Gravel-Throated Folkin’ Blues awaits. \nSherri Parry:\nAt just 20\, Sherri Parry has already made a name for herself as one of the most exciting singer songwriters in the Victorian folk scene. Sherri began her career at the age of 12\, playing open mics and small gigs in central Victoria. She soon began to gain recognition for her talent\, winning awards for both her songwriting and performance skills. It was around this time Sherri’s music caught the attention of accomplished singer songwriters such as Grim Fawkner and Tom Lee Richards\, who have since acted as mentors to her.\nSherri Parry’s music showcases both composition skills and world views well beyond her time\, and her live performances are nothing but a testament to that. Delivering intimate\, ethereal performances that never fail to leave audiences spellbound.\nParry debuted her highly anticipated first EP\, ‘EQUAL’ in October 16\, sharing six songs exploring people\, life and relationships. EQUAL is now available to purchase at sherriparry.bandcamp.com. \nSaturday July 14th\nBlues Tram\, feat: Alister Turrill + Sherri Parry\nDeparting Central Deborah Goldmine (76 Violet Street) at 2pm\, returning 4:15pm.\nTix: $35 from Bendigo Visitor Centre 1800 813 513 or https://www.bendigotourism.com/tours/bendigo-cbd/bendigo-blues-tram\nFollow The Blues Tram here: https://www.facebook.com/TheBluesTram \nStrictly no BYO. Drinks and snacks available for purchase. \nThe Blues Tram is organised and staged by Bendigo Blues & Roots Music Festival Inc\, a not-for-profit organisation run by volunteers. \nPlease Note:\nThis is a music appreciation event – a mobile concert. For the enjoyment of all patrons\, any rowdy or loud behaviour will not be tolerated. Event management reserves the right to refuse admission or evict patrons if requests to manage behaviour are not complied with; in this unlikely event\, tickets of offenders will be forfeited and no refund will be available.
URL:https://bendigoblues.com/event/the-blues-tram-w-alister-turrill-sherri-parry/
LOCATION:The Blues Tram\, 76 Violet Street\, Bendigo\, VIC\, 3550\, Australia
CATEGORIES:The Blues Tram
ATTACH;FMTTYPE=image/jpeg:https://bendigoblues.com/wp-content/uploads/2018/04/2cb740e44e500869d9bdfeb42a27e47a.jpg
END:VEVENT
END:VCALENDAR