BEGIN:VCALENDAR
VERSION:2.0
PRODID:-//Bendigo Blues &amp; Roots - ECPv6.15.18//NONSGML v1.0//EN
CALSCALE:GREGORIAN
METHOD:PUBLISH
X-WR-CALNAME:Bendigo Blues &amp; Roots
X-ORIGINAL-URL:https://bendigoblues.com
X-WR-CALDESC:Events for Bendigo Blues &amp; Roots
REFRESH-INTERVAL;VALUE=DURATION:PT1H
X-Robots-Tag:noindex
X-PUBLISHED-TTL:PT1H
BEGIN:VTIMEZONE
TZID:Australia/Melbourne
BEGIN:STANDARD
TZOFFSETFROM:+1100
TZOFFSETTO:+1000
TZNAME:AEST
DTSTART:20170401T160000
END:STANDARD
BEGIN:DAYLIGHT
TZOFFSETFROM:+1000
TZOFFSETTO:+1100
TZNAME:AEDT
DTSTART:20170930T160000
END:DAYLIGHT
BEGIN:STANDARD
TZOFFSETFROM:+1100
TZOFFSETTO:+1000
TZNAME:AEST
DTSTART:20180331T160000
END:STANDARD
BEGIN:DAYLIGHT
TZOFFSETFROM:+1000
TZOFFSETTO:+1100
TZNAME:AEDT
DTSTART:20181006T160000
END:DAYLIGHT
BEGIN:STANDARD
TZOFFSETFROM:+1100
TZOFFSETTO:+1000
TZNAME:AEST
DTSTART:20190406T160000
END:STANDARD
BEGIN:DAYLIGHT
TZOFFSETFROM:+1000
TZOFFSETTO:+1100
TZNAME:AEDT
DTSTART:20191005T160000
END:DAYLIGHT
END:VTIMEZONE
BEGIN:VEVENT
DTSTART;TZID=Australia/Melbourne:20180811T140000
DTEND;TZID=Australia/Melbourne:20180811T161500
DTSTAMP:20260420T222404
CREATED:20171230T090248Z
LAST-MODIFIED:20180411T020134Z
UID:5666-1533996000-1534004100@bendigoblues.com
SUMMARY:The Blues Tram w/Luke Watt + Cat Canteri
DESCRIPTION:Two great singer/songwriters\, folksters\, top-shelf blues & roots artists\, Cat Canteri and Luke Watt will feature on our August Blues Tram.  Luke is a Blues Tram veteran\, but Cat will be making her debut on Bendigo’s favourite mobile music venue. Come along and give Cat a big warm Bendigo welcome… \nEnjoy the sights of Bendigo’s architecturally stunning CBD from on board the sensationally restored vintage W Class tram\, while being serenaded by two great acts: \nLuke Watt:\nLuke Watt is a folk/blues guitarist and songwriter described by ABC National as “Raw and mercurial\, the real deal\,” and by Lloyd Spiegel as “A master of his craft.”\nDespite the experiences of touring his last album Hill End Ruin throughout Europe and the U.S\, Luke Watt’s new record is inspired by stories based much closer to home. Wild Graces is a collection of songs inspired by\, written and recorded in his now home of Central Victoria. The record was then mixed by long-time collaborator Nick Huggins (Jen Cloher\, Skipping Girl Vinegar\, Whitley). Luke’s folk and blues guitar playing carries songs of failed gold diggers\, small town tragedies and feuds between cranky old men. Wild Graces is an album from a touring artist who set up home and found stories worth telling. \nCat Canteri:\nEarly in 2016 Cat Canteri released her new 6-track EP Late At Night\, which captures the vitality and intimacy of her live shows and showcases the verve and passion she brings to her guitar playing. You can hear traces of The Pretenders\, Bonnie Raitt\, Eleanor Friedberger and Ryan Adams filtered through the organic rock ’n’ roll of The Faces. The new EP follows her acclaimed solo debut album When We Were Young (2014)\, which shone a spotlight on her own alt-country/Americana style. \nSaturday August 11th\nBlues Tram\, feat: Cat Canteri + Luke Watt\nDeparting Central Deborah Goldmine (76 Violet Street) at 2pm\, returning 4:15pm.\nTix: $35 from Bendigo Visitor Centre 1800 813 513 or https://www.bendigotourism.com/tours/bendigo-cbd/bendigo-blues-tram\nFollow The Blues Tram here: https://www.facebook.com/TheBluesTram \nStrictly no BYO. Drinks and snacks available for purchase. \nThe Blues Tram is organised and staged by Bendigo Blues & Roots Music Festival Inc\, a not-for-profit organisation run by volunteers. \nPlease Note:\nThis is a music appreciation event – a mobile concert. For the enjoyment of all patrons\, any rowdy or loud behaviour will not be tolerated. Event management reserves the right to refuse admission or evict patrons if requests to manage behaviour are not complied with; in this unlikely event\, tickets of offenders will be forfeited and no refund will be available.
URL:https://bendigoblues.com/event/the-blues-tram-w-luke-watt-cat-canteri/
LOCATION:The Blues Tram\, 76 Violet Street\, Bendigo\, VIC\, 3550\, Australia
CATEGORIES:The Blues Tram
ATTACH;FMTTYPE=image/jpeg:https://bendigoblues.com/wp-content/uploads/2018/04/ca62c2ca63da630d7116d14cc27cb45b.jpg
END:VEVENT
END:VCALENDAR