BEGIN:VCALENDAR
VERSION:2.0
PRODID:-//Bendigo Blues &amp; Roots - ECPv6.15.18//NONSGML v1.0//EN
CALSCALE:GREGORIAN
METHOD:PUBLISH
X-ORIGINAL-URL:https://bendigoblues.com
X-WR-CALDESC:Events for Bendigo Blues &amp; Roots
REFRESH-INTERVAL;VALUE=DURATION:PT1H
X-Robots-Tag:noindex
X-PUBLISHED-TTL:PT1H
BEGIN:VTIMEZONE
TZID:Australia/Melbourne
BEGIN:STANDARD
TZOFFSETFROM:+1100
TZOFFSETTO:+1000
TZNAME:AEST
DTSTART:20170401T160000
END:STANDARD
BEGIN:DAYLIGHT
TZOFFSETFROM:+1000
TZOFFSETTO:+1100
TZNAME:AEDT
DTSTART:20170930T160000
END:DAYLIGHT
BEGIN:STANDARD
TZOFFSETFROM:+1100
TZOFFSETTO:+1000
TZNAME:AEST
DTSTART:20180331T160000
END:STANDARD
BEGIN:DAYLIGHT
TZOFFSETFROM:+1000
TZOFFSETTO:+1100
TZNAME:AEDT
DTSTART:20181006T160000
END:DAYLIGHT
BEGIN:STANDARD
TZOFFSETFROM:+1100
TZOFFSETTO:+1000
TZNAME:AEST
DTSTART:20190406T160000
END:STANDARD
BEGIN:DAYLIGHT
TZOFFSETFROM:+1000
TZOFFSETTO:+1100
TZNAME:AEDT
DTSTART:20191005T160000
END:DAYLIGHT
END:VTIMEZONE
BEGIN:VTIMEZONE
TZID:Australia/Melbourne
BEGIN:STANDARD
TZOFFSETFROM:+1100
TZOFFSETTO:+1000
TZNAME:AEST
DTSTART:20170401T160000
END:STANDARD
BEGIN:DAYLIGHT
TZOFFSETFROM:+1000
TZOFFSETTO:+1100
TZNAME:AEDT
DTSTART:20170930T160000
END:DAYLIGHT
BEGIN:STANDARD
TZOFFSETFROM:+1100
TZOFFSETTO:+1000
TZNAME:AEST
DTSTART:20180331T160000
END:STANDARD
BEGIN:DAYLIGHT
TZOFFSETFROM:+1000
TZOFFSETTO:+1100
TZNAME:AEDT
DTSTART:20181006T160000
END:DAYLIGHT
BEGIN:STANDARD
TZOFFSETFROM:+1100
TZOFFSETTO:+1000
TZNAME:AEST
DTSTART:20190406T160000
END:STANDARD
BEGIN:DAYLIGHT
TZOFFSETFROM:+1000
TZOFFSETTO:+1100
TZNAME:AEDT
DTSTART:20191005T160000
END:DAYLIGHT
END:VTIMEZONE
BEGIN:VEVENT
DTSTART;TZID=Australia/Melbourne:20180902T120000
DTEND;TZID=Australia/Melbourne:20180902T143000
DTSTAMP:20260420T204943
CREATED:20180725T110745Z
LAST-MODIFIED:20180725T110745Z
UID:15320-1535889600-1535898600@bendigoblues.com
SUMMARY:The Blues Tram w/Walkers Road + Charlie Bedford
DESCRIPTION:Two great young musical acts – one a rising star on the Australian Blues scene and the other a pair of promising singer/songwriters with an uncanny craft for harmonising together and reinventing and reinvigorating old songs. \nEnjoy the sights of Bendigo’s architecturally stunning CBD from on board the sensationally restored vintage W Class tram\, while being serenaded by two great acts: \nCharlie Bedford:\nCharlie Bedford is a 17-year-old blues guitarist & vocalist from Melbourne. Charlie performed at the “International Blues Challenge – Youth Showcase” in Memphis 2017 and 2018 representing the Melbourne Blues Appreciation Society!\nHe has played with & been mentored by some of the biggest names in Australian Blues such as\, Geoff Achison\, Sweet Felicia\, Jimi Hocking\, Andrea Marr\, Russell Morris & Lloyd Spiegel to name a few. Charlie is a fresh act on the festival scene\, representing the next generation – keeping the blues alive! He’ll get your feet tapping & leave a smile on your face! \nWalkers Road:\nJarrod Shaw and Sarah Wilkinson perform a blend of country\, folk and roots music that showcases their unique guitar styles and superb harmonies. The combination of Jarrod’s blues heavy approach with Sarah’s folk and country style makes for a diverse and captivating show.\nTheir first collaboration was at the Carols At Hanging Rock event in 2012\, where they were asked to perform as a duo. They have since have been performing together at festivals and venues across Victoria\, dropping jaws and melting hearts along the way. \nSunday September 2nd\nBlues Tram\, feat: Walkers Road + Charlie Bedford\nDeparting Central Deborah Goldmine (76 Violet Street) at 12pm\, returning 2:30pm.\nTix: $35 from Bendigo Visitor Centre 1800 813 513 or https://www.bendigotourism.com/tours/bendigo-cbd/bendigo-blues-tram\nFollow The Blues Tram here: https://www.facebook.com/TheBluesTram \nStrictly no BYO. Drinks and snacks available for purchase. \nThe Blues Tram is organised and staged by Bendigo Blues & Roots Music Festival Inc\, a not-for-profit organisation run by volunteers. \nPlease Note:\nThis is a music appreciation event – a mobile concert. For the enjoyment of all patrons\, any rowdy or loud behaviour will not be tolerated. Event management reserves the right to refuse admission or evict patrons if requests to manage behaviour are not complied with; in this unlikely event\, tickets of offenders will be forfeited and no refund will be available.
URL:https://bendigoblues.com/event/the-blues-tram-w-walkers-road-charlie-bedford/
LOCATION:The Blues Tram\, 76 Violet Street\, Bendigo\, VIC\, 3550\, Australia
CATEGORIES:The Blues Tram
ATTACH;FMTTYPE=image/jpeg:https://bendigoblues.com/wp-content/uploads/2018/07/BTSeptember.jpg
END:VEVENT
BEGIN:VEVENT
DTSTART;TZID=Australia/Melbourne:20180908T140000
DTEND;TZID=Australia/Melbourne:20180908T161500
DTSTAMP:20260420T204943
CREATED:20180114T021720Z
LAST-MODIFIED:20180411T020134Z
UID:5805-1536415200-1536423300@bendigoblues.com
SUMMARY:The Blues Tram w/Justin Bernasconi + Kelly Brouhaha
DESCRIPTION:Another two great singer/songwriters\, folksters\, top-shelf blues & roots artists\, Justin Bernasconi and Kelly Brouhaha will each make their Blues Tram debut in September.  A classy musical journey is guaranteed and this is a gig not to be missed. \nEnjoy the sights of Bendigo’s architecturally stunning CBD from on board the sensationally restored vintage W Class tram\, while being serenaded by two great acts: \nKelly Brouhaha .:\nRoots warrior Kelly Brouhaha is all about the “Feelgood” side of life.  An award winning songwriter and multi-instrumentalist with achingly soulful vocals\, her uplifting music is more than a simple band-aid to the blues.\n“The Brouhaha has a gorgeous\, powerful\, dare-we-say Adele-esque voice\, and her new song Don’t Have To Write it Down is a fine vehicle for it” – RIP IT UP\nOnce upon a time this traveller had a full-time job\, a marriage and a mortgage that was sucking the life out of her to the point that she’d randomly pass out. Miserable\, anxious and stressed out – she chose a different path \, bought a van and created a life doing what she loves.\n“…[her music] has the ability to lift you up and put you in a happy place” – MUSIC SA\nSince 2009 The Brouhaha and Margo (her faithful Tarago) have travelled Australia’s East Coast extensively  playing roughly 200 shows per year. With a string of supports including Clare Bowditch\, Mia Dyson\, Liz Stringer\, Sarah Mcleod\, Jen Cloher and Wes Carr – Kel spreads an infectious positivity with her comedic stage show\, superstar girl band (featuring Ali Foster\, Emily A Smith\, Jenna Bonavita\, Tania Savelli and Melanie Watts) and their soul inspired roots tunes. \nJustin Bernasconi:\nNamed as ‘One of this country’s most interesting guitar talents’ by Australian Guitar magazine\, Justin Bernasconi is a rarity among guitarists and songwriters. Straddling styles and sounds from the Delta Blues\, Appalachian Bluegrass\, English Folk and all stops in between\, his highly original tunes are infused with exciting and soulful guitar playing.\nHe will be launching his new album Barefoot Wonderland throughout 2017. \nSaturday September 8th\nBlues Tram\, feat: Justin Bernasconi + Kelly Brouhaha\nDeparting Central Deborah Goldmine (76 Violet Street) at 2pm\, returning 4:15pm.\nTix: $35 from Bendigo Visitor Centre 1800 813 513 or online here: https://www.bendigotourism.com/tours/bendigo-cbd/bendigo-blues-tram\nFollow The Blues Tram here: https://www.facebook.com/TheBluesTram \nStrictly no BYO. Drinks and snacks available for purchase. \nThe Blues Tram is organised and staged by Bendigo Blues & Roots Music Festival Inc\, a not-for-profit organisation run by volunteers. \nPlease Note:\nThis is a music appreciation event – a mobile concert. For the enjoyment of all patrons\, any rowdy or loud behavior will not be tolerated. Event management reserves the right to refuse admission or evict patrons if requests to manage behavior are not complied with; in this unlikely event\, tickets of offenders will be forfeited and no refund will be available.
URL:https://bendigoblues.com/event/the-blues-tram-w-justin-bernasconi-kelly-brouhaha/
LOCATION:The Blues Tram\, 76 Violet Street\, Bendigo\, VIC\, 3550\, Australia
CATEGORIES:The Blues Tram
ATTACH;FMTTYPE=image/jpeg:https://bendigoblues.com/wp-content/uploads/2018/04/c700651a0f16ba84b43f76c20766bd0d.jpg
END:VEVENT
END:VCALENDAR