BEGIN:VCALENDAR
VERSION:2.0
PRODID:-//Bendigo Blues &amp; Roots - ECPv6.15.18//NONSGML v1.0//EN
CALSCALE:GREGORIAN
METHOD:PUBLISH
X-WR-CALNAME:Bendigo Blues &amp; Roots
X-ORIGINAL-URL:https://bendigoblues.com
X-WR-CALDESC:Events for Bendigo Blues &amp; Roots
REFRESH-INTERVAL;VALUE=DURATION:PT1H
X-Robots-Tag:noindex
X-PUBLISHED-TTL:PT1H
BEGIN:VTIMEZONE
TZID:UTC
BEGIN:STANDARD
TZOFFSETFROM:+0000
TZOFFSETTO:+0000
TZNAME:UTC
DTSTART:20170101T000000
END:STANDARD
END:VTIMEZONE
BEGIN:VEVENT
DTSTART;TZID=UTC:20181013T140000
DTEND;TZID=UTC:20181013T161500
DTSTAMP:20260420T191944
CREATED:20180114T091706Z
LAST-MODIFIED:20180411T020134Z
UID:5813-1539439200-1539447300@bendigoblues.com
SUMMARY:The Blues Tram w/White Lightning + Jess Parker
DESCRIPTION:Two phenomenal young blues acts on the rise will ride the rails this October: White Lightning (Sean McConnell and Benny Gerrard) make their long-awaited return while Jess Parker makes her Blues Tram debut. \nEnjoy the sights of Bendigo’s architecturally stunning CBD from on board the sensationally restored vintage W Class tram\, while being serenaded by two great acts: \nWhite Lightning:\nWhite Lightning are a swamp blues-rock band\, bringing together the sounds of the deep southern states of the US with a modern bite and contemporary songwriting style. The duo consists of Sean McConnell on slide guitar and vocals\, and Benny Gerrard (Catfish Voodoo) on drums. The pair aim to reinvigorate traditional blues for a 21st century audience\, to shake the walls and empty whiskey bottles.\nKnown for anything from raucous dancing tunes\, to stripped back delta songs\, the pair caters to a broad taste. \nJess Parker & The Troubled Waters:\nAfter being raised on her parents record collection and traveling the deep south\, Jess Parker has spent the last year unleashing her haunting blend of blues and folk across Victoria. Singing songs of heartbreak and memoirs of whiskey-soaked New Orleans streets\, Jess and her howling Gretsch -Electric Mud’ will dreamily serve you up some blues. \nSaturday October 13th\nBlues Tram\, feat: White Lightning + Jess Parker\nDeparting Central Deborah Goldmine (76 Violet Street) at 2pm\, returning 4:15pm.\nTix: $35 from Bendigo Visitor Centre 1800 813 513 or online here: https://www.bendigotourism.com/tours/bendigo-cbd/bendigo-blues-tram\nFollow The Blues Tram here: https://www.facebook.com/TheBluesTram \nStrictly no BYO. Drinks and snacks available for purchase. \nThe Blues Tram is organised and staged by Bendigo Blues & Roots Music Festival Inc\, a not-for-profit organisation run by volunteers. \nPlease Note:\nThis is a music appreciation event – a mobile concert. For the enjoyment of all patrons\, any rowdy or loud behavior will not be tolerated. Event management reserves the right to refuse admission or evict patrons if requests to manage behavior are not complied with; in this unlikely event\, tickets of offenders will be forfeited and no refund will be available.
URL:https://bendigoblues.com/event/the-blues-tram-w-white-lightning-jess-parker/
LOCATION:The Blues Tram\, 76 Violet Street\, Bendigo\, VIC\, 3550\, Australia
CATEGORIES:The Blues Tram
ATTACH;FMTTYPE=image/jpeg:https://bendigoblues.com/wp-content/uploads/2018/04/12b70099330b6a1d7739e3611ded7b25.jpg
END:VEVENT
END:VCALENDAR