BEGIN:VCALENDAR
VERSION:2.0
PRODID:-//Bendigo Blues &amp; Roots - ECPv6.15.18//NONSGML v1.0//EN
CALSCALE:GREGORIAN
METHOD:PUBLISH
X-ORIGINAL-URL:https://bendigoblues.com
X-WR-CALDESC:Events for Bendigo Blues &amp; Roots
REFRESH-INTERVAL;VALUE=DURATION:PT1H
X-Robots-Tag:noindex
X-PUBLISHED-TTL:PT1H
BEGIN:VTIMEZONE
TZID:Australia/Melbourne
BEGIN:STANDARD
TZOFFSETFROM:+1100
TZOFFSETTO:+1000
TZNAME:AEST
DTSTART:20180331T160000
END:STANDARD
BEGIN:DAYLIGHT
TZOFFSETFROM:+1000
TZOFFSETTO:+1100
TZNAME:AEDT
DTSTART:20181006T160000
END:DAYLIGHT
BEGIN:STANDARD
TZOFFSETFROM:+1100
TZOFFSETTO:+1000
TZNAME:AEST
DTSTART:20190406T160000
END:STANDARD
BEGIN:DAYLIGHT
TZOFFSETFROM:+1000
TZOFFSETTO:+1100
TZNAME:AEDT
DTSTART:20191005T160000
END:DAYLIGHT
BEGIN:STANDARD
TZOFFSETFROM:+1100
TZOFFSETTO:+1000
TZNAME:AEST
DTSTART:20200404T160000
END:STANDARD
BEGIN:DAYLIGHT
TZOFFSETFROM:+1000
TZOFFSETTO:+1100
TZNAME:AEDT
DTSTART:20201003T160000
END:DAYLIGHT
END:VTIMEZONE
BEGIN:VEVENT
DTSTART;TZID=Australia/Melbourne:20190112T140000
DTEND;TZID=Australia/Melbourne:20190112T163000
DTSTAMP:20260420T145221
CREATED:20181124T023417Z
LAST-MODIFIED:20181124T023721Z
UID:16338-1547301600-1547310600@bendigoblues.com
SUMMARY:The Blues Tram w/Tasha Zappala + Victor Cripes
DESCRIPTION:Two contrasting styles from two great young acts – soulful\, jazzy and sweet vs raw\, bluesy and rugged – Tasha Zappala and Victor Cripes\, both making their Blues Tram debut. \nEnjoy the sights of Bendigo’s architecturally stunning CBD from on board the sensationally restored vintage W Class tram\, while being serenaded by two great acts: \nTasha Zappala:\nAustralian singer-songwriter Tasha Zappala unlocks a raw mixture of post-folk blues that synthesizes the atmosphere of a local coffee shop where the lighting is warm & the ambiance is nothing short of enticing. Her intense gypsy-folk melodies will at one moment materialize into dainty falsettos\, and at the next into a throaty\, growling chest tone. Soulful and spine-tingling\, ethereal and evocative\, Zappala weaves abstracted tales of foggy memories and days adrift. \nVictor Cripes:\n‘This is the kind of music that really gets me excited’ -Matt Frederick (Juke Joint – PBS 106.7 FM)\n‘Victor Cripes is a lot like the gear I make. A little rough around the edges\, but sounds great’ –Larry Mead (Mead Guitars)\n‘Sounds dirtier than a couple of copulating gorillas’ -Parlour Gigs(International Tour Agency)\nVictor Cripes delivers a distinctive dirty blues sound which echoes the styles of over 100 years of blues music – from the blues masters of yester-year to the British / American blues revival of the 1960’s. A partnership of Australian easy groove\, American thump and British tube overdrive\, while keeping an original modern twist. \nSaturday January 12th\nBlues Tram\, feat: Tasha Zappala + Victor Cripes\nDeparting Central Deborah Goldmine (76 Violet Street) at 2pm\, returning 4:15pm.\nTix: $35 from Bendigo Visitor Centre 1800 813 513 or online here: https://www.bendigotourism.com/tours/bendigo-cbd/bendigo-blues-tram\nFollow The Blues Tram here: https://www.facebook.com/TheBluesTram \nStrictly no BYO. Drinks and snacks available for purchase. \nThe Blues Tram is organised and staged by Bendigo Blues & Roots Music Festival Inc\, a not-for-profit organisation run by volunteers. \nPlease Note:\nThis is a music appreciation event – a mobile concert. For the enjoyment of all patrons\, any rowdy or loud behavior will not be tolerated. Event management reserves the right to refuse admission or evict patrons if requests to manage behavior are not complied with; in this unlikely event\, tickets of offenders will be forfeited and no refund will be available.
URL:https://bendigoblues.com/event/the-blues-tram-w-tasha-zappala-victor-cripes/
LOCATION:The Blues Tram\, 76 Violet Street\, Bendigo\, VIC\, 3550\, Australia
CATEGORIES:The Blues Tram
ATTACH;FMTTYPE=image/jpeg:https://bendigoblues.com/wp-content/uploads/2018/11/Tasha_Blues_Tram.jpg
END:VEVENT
END:VCALENDAR