BEGIN:VCALENDAR
VERSION:2.0
PRODID:-//Bendigo Blues &amp; Roots - ECPv6.15.18//NONSGML v1.0//EN
CALSCALE:GREGORIAN
METHOD:PUBLISH
X-ORIGINAL-URL:https://bendigoblues.com
X-WR-CALDESC:Events for Bendigo Blues &amp; Roots
REFRESH-INTERVAL;VALUE=DURATION:PT1H
X-Robots-Tag:noindex
X-PUBLISHED-TTL:PT1H
BEGIN:VTIMEZONE
TZID:Australia/Melbourne
BEGIN:STANDARD
TZOFFSETFROM:+1100
TZOFFSETTO:+1000
TZNAME:AEST
DTSTART:20180331T160000
END:STANDARD
BEGIN:DAYLIGHT
TZOFFSETFROM:+1000
TZOFFSETTO:+1100
TZNAME:AEDT
DTSTART:20181006T160000
END:DAYLIGHT
BEGIN:STANDARD
TZOFFSETFROM:+1100
TZOFFSETTO:+1000
TZNAME:AEST
DTSTART:20190406T160000
END:STANDARD
BEGIN:DAYLIGHT
TZOFFSETFROM:+1000
TZOFFSETTO:+1100
TZNAME:AEDT
DTSTART:20191005T160000
END:DAYLIGHT
BEGIN:STANDARD
TZOFFSETFROM:+1100
TZOFFSETTO:+1000
TZNAME:AEST
DTSTART:20200404T160000
END:STANDARD
BEGIN:DAYLIGHT
TZOFFSETFROM:+1000
TZOFFSETTO:+1100
TZNAME:AEDT
DTSTART:20201003T160000
END:DAYLIGHT
END:VTIMEZONE
BEGIN:VEVENT
DTSTART;TZID=Australia/Melbourne:20190209T140000
DTEND;TZID=Australia/Melbourne:20190209T163000
DTSTAMP:20260420T132605
CREATED:20181124T024008Z
LAST-MODIFIED:20181124T024008Z
UID:16341-1549720800-1549729800@bendigoblues.com
SUMMARY:The Blues Tram w/Marisa Quigley + Don Morrison
DESCRIPTION:Two contrasting styles from two well-traveled and well credentialed acts – Marisa Quigley (Beechworth\, VIC) and Don Morrison (Adelaide\, SA). \nEnjoy the sights of Bendigo’s architecturally stunning CBD from on board the sensationally restored vintage W Class tram\, while being serenaded by two great acts: \nMarisa Quigley:\nMarisa is an award-winning Australian blues/roots singer and songwriter\, solo artist\, and cabaret performer. With her charismatic stage presence and powerhouse delivery\, the husky-voiced chanteuse has drawn comparisons with Janis Joplin and Bonnie Raitt. Absolutely at home on the stage\, with her irreverent wit and deft lyrics\, Marisa has audiences in stitches one minute\, and moved to tears the next.\nHer songwriting influences are as diverse as Tom Waits and The Eagles\, and her songs span the gamut from haunting to heartfelt to hilarious. With an eclectic blend of blues/roots and alt-country/folk\, a wink and a nudge\, a tickle and a poke\, her act is soulful\, fun\, endearing—and highly entertaining. \nDon Morrison:\n“South Australian resonator specialist\, guitar-maker and raconteur Don Morrison returns with a self-titled solo album of bluesy R&B rich with Morrison’s trademark colour and humour. The way Morrison enjoys mixing slapstick with social and political commentary\, it wouldn’t be surprising to discover that Ry Cooder is high up his list of musical heroes. The Australian Ry Cooder? Who wouldn’t want that tag? Certainly Don has a deft touch on the slide guitar.\nUnashamedly regional\, Morrison sings about the places\, people and plights of his immediate environment\, talking about Adelaide and the Nullarbor and enjoying applying his wit to working man’s concerns like fishing (‘Fishing’) and the mining boom (‘Mining Boom’).” – Martin Jones\, Rhythms \nSaturday February 9th\nBlues Tram\, feat: Marisa Quigley + Don Morrison\nDeparting Central Deborah Goldmine (76 Violet Street) at 2pm\, returning 4:15pm.\nTix: $35 from Bendigo Visitor Centre 1800 813 513 or online here: https://www.bendigotourism.com/tours/bendigo-cbd/bendigo-blues-tram\nFollow The Blues Tram here: https://www.facebook.com/TheBluesTram \nStrictly no BYO. Drinks and snacks available for purchase. \nThe Blues Tram is organised and staged by Bendigo Blues & Roots Music Festival Inc\, a not-for-profit organisation run by volunteers. \nPlease Note:\nThis is a music appreciation event – a mobile concert. For the enjoyment of all patrons\, any rowdy or loud behavior will not be tolerated. Event management reserves the right to refuse admission or evict patrons if requests to manage behavior are not complied with; in this unlikely event\, tickets of offenders will be forfeited and no refund will be available.
URL:https://bendigoblues.com/event/the-blues-tram-w-marisa-quigley-don-morrison/
LOCATION:The Blues Tram\, 76 Violet Street\, Bendigo\, VIC\, 3550\, Australia
CATEGORIES:The Blues Tram
ATTACH;FMTTYPE=image/jpeg:https://bendigoblues.com/wp-content/uploads/2018/11/MarisaBluesTram.jpg
END:VEVENT
END:VCALENDAR