BEGIN:VCALENDAR
VERSION:2.0
PRODID:-//Bendigo Blues &amp; Roots - ECPv6.15.18//NONSGML v1.0//EN
CALSCALE:GREGORIAN
METHOD:PUBLISH
X-ORIGINAL-URL:https://bendigoblues.com
X-WR-CALDESC:Events for Bendigo Blues &amp; Roots
REFRESH-INTERVAL;VALUE=DURATION:PT1H
X-Robots-Tag:noindex
X-PUBLISHED-TTL:PT1H
BEGIN:VTIMEZONE
TZID:Australia/Melbourne
BEGIN:STANDARD
TZOFFSETFROM:+1100
TZOFFSETTO:+1000
TZNAME:AEST
DTSTART:20180331T160000
END:STANDARD
BEGIN:DAYLIGHT
TZOFFSETFROM:+1000
TZOFFSETTO:+1100
TZNAME:AEDT
DTSTART:20181006T160000
END:DAYLIGHT
BEGIN:STANDARD
TZOFFSETFROM:+1100
TZOFFSETTO:+1000
TZNAME:AEST
DTSTART:20190406T160000
END:STANDARD
BEGIN:DAYLIGHT
TZOFFSETFROM:+1000
TZOFFSETTO:+1100
TZNAME:AEDT
DTSTART:20191005T160000
END:DAYLIGHT
BEGIN:STANDARD
TZOFFSETFROM:+1100
TZOFFSETTO:+1000
TZNAME:AEST
DTSTART:20200404T160000
END:STANDARD
BEGIN:DAYLIGHT
TZOFFSETFROM:+1000
TZOFFSETTO:+1100
TZNAME:AEDT
DTSTART:20201003T160000
END:DAYLIGHT
END:VTIMEZONE
BEGIN:VEVENT
DTSTART;TZID=Australia/Melbourne:20190309T140000
DTEND;TZID=Australia/Melbourne:20190309T163000
DTSTAMP:20260420T114523
CREATED:20181124T024706Z
LAST-MODIFIED:20190206T100711Z
UID:16347-1552140000-1552149000@bendigoblues.com
SUMMARY:The Blues Tram w/Jo Jo Smith + Grim Fawkner
DESCRIPTION:Enjoy the sights of Bendigo’s architecturally stunning CBD from on board the sensationally restored vintage W Class tram\, while being serenaded by two great acts: \nGrim Fawkner:\nRambling man\, Grim Fawkner\, is no stranger to stages and streets across the globe and at home. The epitome of the itinerant musician\, he draws together tales and musings from his travels and is as likely to deliver them in soft ballad form as he is face-meltingly intricate and upbeat roots/country/blues.  \nJo Jo Smith:\nJo Jo is an inspirational performer generous of heart soul and musicality. Coming from a roots base of Soul Blues Funk and Jazz steeped in groove and sprinkled with good humour Jo Jo’s material ruminates on love life and all things real. No one leaves a Jo Jo Performance untouched by her vocal ability and magnetic stage presence.\nIn 2017 Jo Jo celebrated 50 Years of working in the music industry by doing a cracker 50 Gig tour of Australia organised and arranged by her dear friend and colleague / poet / singer /guitarist Lucie Thorne.\nFestivals Jo Jo has played of late include The Mullumbimby Music Festival\, Port fairy Folk Festival\, Bellow Winter Fest\, Bendigo Blues n Roots\, Eltham Jazz Festival\, Whare Flat Folk Festival\, Newstead Folk Festival. \nSaturday March 9th\nBlues Tram\, feat: Jo Jo Smith + Grim Fawkner\nDeparting Central Deborah Goldmine (76 Violet Street) at 2pm\, returning 4:15pm.\nTix: $35 from Bendigo Visitor Centre 1800 813 513 or online here: https://www.bendigotourism.com/tours/bendigo-cbd/bendigo-blues-tram\nFollow The Blues Tram here: https://www.facebook.com/TheBluesTram \nStrictly no BYO. Drinks and snacks available for purchase. \nThe Blues Tram is organised and staged by Bendigo Blues & Roots Music Festival Inc\, a not-for-profit organisation run by volunteers. \nPlease Note:\nThis is a music appreciation event – a mobile concert. For the enjoyment of all patrons\, any rowdy or loud behavior will not be tolerated. Event management reserves the right to refuse admission or evict patrons if requests to manage behavior are not complied with; in this unlikely event\, tickets of offenders will be forfeited and no refund will be available.
URL:https://bendigoblues.com/event/the-blues-tram-w-jo-jo-smith-carl-pannuzzo/
LOCATION:The Blues Tram\, 76 Violet Street\, Bendigo\, VIC\, 3550\, Australia
CATEGORIES:The Blues Tram
ATTACH;FMTTYPE=image/jpeg:https://bendigoblues.com/wp-content/uploads/2018/11/JoJoSmithBluesTram.jpg
END:VEVENT
END:VCALENDAR