BEGIN:VCALENDAR
VERSION:2.0
PRODID:-//Bendigo Blues &amp; Roots - ECPv6.15.18//NONSGML v1.0//EN
CALSCALE:GREGORIAN
METHOD:PUBLISH
X-WR-CALNAME:Bendigo Blues &amp; Roots
X-ORIGINAL-URL:https://bendigoblues.com
X-WR-CALDESC:Events for Bendigo Blues &amp; Roots
REFRESH-INTERVAL;VALUE=DURATION:PT1H
X-Robots-Tag:noindex
X-PUBLISHED-TTL:PT1H
BEGIN:VTIMEZONE
TZID:Australia/Melbourne
BEGIN:STANDARD
TZOFFSETFROM:+1100
TZOFFSETTO:+1000
TZNAME:AEST
DTSTART:20180331T160000
END:STANDARD
BEGIN:DAYLIGHT
TZOFFSETFROM:+1000
TZOFFSETTO:+1100
TZNAME:AEDT
DTSTART:20181006T160000
END:DAYLIGHT
BEGIN:STANDARD
TZOFFSETFROM:+1100
TZOFFSETTO:+1000
TZNAME:AEST
DTSTART:20190406T160000
END:STANDARD
BEGIN:DAYLIGHT
TZOFFSETFROM:+1000
TZOFFSETTO:+1100
TZNAME:AEDT
DTSTART:20191005T160000
END:DAYLIGHT
BEGIN:STANDARD
TZOFFSETFROM:+1100
TZOFFSETTO:+1000
TZNAME:AEST
DTSTART:20200404T160000
END:STANDARD
BEGIN:DAYLIGHT
TZOFFSETFROM:+1000
TZOFFSETTO:+1100
TZNAME:AEDT
DTSTART:20201003T160000
END:DAYLIGHT
END:VTIMEZONE
BEGIN:VEVENT
DTSTART;TZID=Australia/Melbourne:20190511T140000
DTEND;TZID=Australia/Melbourne:20190511T163000
DTSTAMP:20260420T084515
CREATED:20181223T014012Z
LAST-MODIFIED:20181223T014012Z
UID:16372-1557583200-1557592200@bendigoblues.com
SUMMARY:The Blues Tram w/Lily & King + Alister Turrill
DESCRIPTION:Two of the most exciting acts on the Roots and Folk Music festival scene in Australia\, performing The Blues Tram together on Saturday 11 May 2019 – fast rising guitarist/singer/songwriter Alister Turrill and the always rambunctious and engaging Lily & King! \nEnjoy the sights of Bendigo’s architecturally stunning CBD from on board the sensationally restored vintage W Class tram\, while being serenaded by two great acts: \nLily and King:\nLily and King are a quirky\, musical junkyard from Melbourne. Their aim is to use all of their limbs for making music at the one time. Lily and King create rousingly catchy music that sits somewhere between a captivating 40’s nightclub routine and the raw\, rambunctious spirit of New Orleans street buskers.\nDixieland punk\, junkyard blues\, sailor songs\, weird carnie show tunes and the odd bit of curious pop\, their music is joyful\, beautiful and a bit dirty and wicked too.\nWith trombone\, sweet and sassy vocals\, toy piano\, guitar\, half a drum kit and an abundance of foot stomping\, their melodies are infused with wild exuberance and joie de vivre – a Lily and King gig is a truly wild and joyful experience. \nAlister Turrill Music:\nAlister is a songwriter of the highest order and a sign that the future of Australian blues is in good hands.” – Lloyd Spiegel\, Premier Endorsee Cole Clark Guitars.\nIt would be a generalisation to group Queenscliff’s Alister Turrill with other young roots players. His playing style blends a true form of blues with complex song writing seldom seen.\nThe past two years have seen the new Melbourne resident at his busiest and best yet with his first East Coast Tour (including a well-received slot on the Roaming Buskers Stage at Byron Bay Bluesfest 2017) and first European shows.\nBBRMF 2018 will once again see Alister joined by dear friend and drumming extraordinaire\, Toby Johnson\, for a series of energetic and demanding performances.\nHonest\, Flawed\, Gravel-Throated Folkin’ Blues awaits. \nSaturday May 11th\nBlues Tram\, feat: Lily & King + Alister Turrill\nDeparting Central Deborah Goldmine (76 Violet Street) at 2pm\, returning 4:15pm.\nTix: $35 from Bendigo Visitor Centre 1800 813 513 or online here: https://www.bendigotourism.com/tours/bendigo-cbd/bendigo-blues-tram\nFollow The Blues Tram here: https://www.facebook.com/TheBluesTram \nStrictly no BYO. Drinks and snacks available for purchase. \nThe Blues Tram is organised and staged by Bendigo Blues & Roots Music Festival Inc\, a not-for-profit organisation run by volunteers. \nPlease Note:\nThis is a music appreciation event – a mobile concert. For the enjoyment of all patrons\, any rowdy or loud behavior will not be tolerated. Event management reserves the right to refuse admission or evict patrons if requests to manage behavior are not complied with; in this unlikely event\, tickets of offenders will be forfeited and no refund will be available.
URL:https://bendigoblues.com/event/the-blues-tram-w-lily-king-alister-turrill/
LOCATION:The Blues Tram\, 76 Violet Street\, Bendigo\, VIC\, 3550\, Australia
CATEGORIES:The Blues Tram
ATTACH;FMTTYPE=image/jpeg:https://bendigoblues.com/wp-content/uploads/2018/12/LK.jpg
END:VEVENT
END:VCALENDAR