BEGIN:VCALENDAR
VERSION:2.0
PRODID:-//Bendigo Blues &amp; Roots - ECPv6.15.18//NONSGML v1.0//EN
CALSCALE:GREGORIAN
METHOD:PUBLISH
X-ORIGINAL-URL:https://bendigoblues.com
X-WR-CALDESC:Events for Bendigo Blues &amp; Roots
REFRESH-INTERVAL;VALUE=DURATION:PT1H
X-Robots-Tag:noindex
X-PUBLISHED-TTL:PT1H
BEGIN:VTIMEZONE
TZID:Australia/Melbourne
BEGIN:STANDARD
TZOFFSETFROM:+1100
TZOFFSETTO:+1000
TZNAME:AEST
DTSTART:20180331T160000
END:STANDARD
BEGIN:DAYLIGHT
TZOFFSETFROM:+1000
TZOFFSETTO:+1100
TZNAME:AEDT
DTSTART:20181006T160000
END:DAYLIGHT
BEGIN:STANDARD
TZOFFSETFROM:+1100
TZOFFSETTO:+1000
TZNAME:AEST
DTSTART:20190406T160000
END:STANDARD
BEGIN:DAYLIGHT
TZOFFSETFROM:+1000
TZOFFSETTO:+1100
TZNAME:AEDT
DTSTART:20191005T160000
END:DAYLIGHT
BEGIN:STANDARD
TZOFFSETFROM:+1100
TZOFFSETTO:+1000
TZNAME:AEST
DTSTART:20200404T160000
END:STANDARD
BEGIN:DAYLIGHT
TZOFFSETFROM:+1000
TZOFFSETTO:+1100
TZNAME:AEDT
DTSTART:20201003T160000
END:DAYLIGHT
END:VTIMEZONE
BEGIN:VEVENT
DTSTART;TZID=Australia/Melbourne:20190608T140000
DTEND;TZID=Australia/Melbourne:20190608T163000
DTSTAMP:20260420T071627
CREATED:20181223T014318Z
LAST-MODIFIED:20181223T014318Z
UID:16375-1560002400-1560011400@bendigoblues.com
SUMMARY:Blues Tram w/John McNamara + Jess Parker & The Troubled Waters
DESCRIPTION:An established top tier performer on the Australian blues scene and a rising singer/songwriter and her band\, performing The Blues Tram together on Saturday 8 June 2019 – the incredible John McNamara and the sublime Jess Parker & The Troubled Waters! \nEnjoy the sights of Bendigo’s architecturally stunning CBD from on board the sensationally restored vintage W Class tram\, while being serenaded by two great acts: \nJohn McNamara:\nMulti Award Winning Blues act John McNamara is riding high with his acclaimed New album titled “Rollin’ With It.” Recording in Memphis with authentic STAX records legends the release has been getting rave reviews world wide. His music is being played all over the US and Europe including BBC radio\, Reaching Number One position on the International Blues Airplay Charts and AMRAP charts as well as spending a few months on the Living Blues Charts. Being likened in the US to greats such as Sam Cooke and Otis Redding\, John’s new sound is an authentic Memphis Soul/Blues experience. Full of stinging Blues guitar and inspiring vocals\, bringing to life “A heart that beats with the Soul of Blues.” \nJess Parker & The Troubled Waters:\nWith a voice like honey poured over a thunder\, a howling\, beat up old Gretsch guitar and thumping animalistic drums\, Jess Parker &\nThe Troubled Waters mix their unique brew of dark Australiana and roaring swamp blues perfectly. After recording their debut EP – ‘Goin’ Swimmin’ at The Aviary in late 2017 and embarking on a a string of local and regional shows\, the momentum and force this Melbourne duos’ train is growing stronger and proving to be unstoppable.” \nSaturday June 8th\nBlues Tram\, feat: John McNamara + Jess Parker & The Troubled Waters\nDeparting Central Deborah Goldmine (76 Violet Street) at 2pm\, returning 4:15pm.\nTix: $35 from Bendigo Visitor Centre 1800 813 513 or online here: https://www.bendigotourism.com/tours/bendigo-cbd/bendigo-blues-tram\nFollow The Blues Tram here: https://www.facebook.com/TheBluesTram \nStrictly no BYO. Drinks and snacks available for purchase. \nThe Blues Tram is organised and staged by Bendigo Blues & Roots Music Festival Inc\, a not-for-profit organisation run by volunteers. \nPlease Note:\nThis is a music appreciation event – a mobile concert. For the enjoyment of all patrons\, any rowdy or loud behavior will not be tolerated. Event management reserves the right to refuse admission or evict patrons if requests to manage behavior are not complied with; in this unlikely event\, tickets of offenders will be forfeited and no refund will be available.
URL:https://bendigoblues.com/event/blues-tram-w-john-mcnamara-jess-parker-the-troubled-waters/
LOCATION:The Blues Tram\, 76 Violet Street\, Bendigo\, VIC\, 3550\, Australia
CATEGORIES:The Blues Tram
ATTACH;FMTTYPE=image/jpeg:https://bendigoblues.com/wp-content/uploads/2018/12/JohnMc.jpg
END:VEVENT
END:VCALENDAR