BEGIN:VCALENDAR
VERSION:2.0
PRODID:-//Bendigo Blues &amp; Roots - ECPv6.15.18//NONSGML v1.0//EN
CALSCALE:GREGORIAN
METHOD:PUBLISH
X-ORIGINAL-URL:https://bendigoblues.com
X-WR-CALDESC:Events for Bendigo Blues &amp; Roots
REFRESH-INTERVAL;VALUE=DURATION:PT1H
X-Robots-Tag:noindex
X-PUBLISHED-TTL:PT1H
BEGIN:VTIMEZONE
TZID:Australia/Melbourne
BEGIN:STANDARD
TZOFFSETFROM:+1100
TZOFFSETTO:+1000
TZNAME:AEST
DTSTART:20180331T160000
END:STANDARD
BEGIN:DAYLIGHT
TZOFFSETFROM:+1000
TZOFFSETTO:+1100
TZNAME:AEDT
DTSTART:20181006T160000
END:DAYLIGHT
BEGIN:STANDARD
TZOFFSETFROM:+1100
TZOFFSETTO:+1000
TZNAME:AEST
DTSTART:20190406T160000
END:STANDARD
BEGIN:DAYLIGHT
TZOFFSETFROM:+1000
TZOFFSETTO:+1100
TZNAME:AEDT
DTSTART:20191005T160000
END:DAYLIGHT
BEGIN:STANDARD
TZOFFSETFROM:+1100
TZOFFSETTO:+1000
TZNAME:AEST
DTSTART:20200404T160000
END:STANDARD
BEGIN:DAYLIGHT
TZOFFSETFROM:+1000
TZOFFSETTO:+1100
TZNAME:AEDT
DTSTART:20201003T160000
END:DAYLIGHT
END:VTIMEZONE
BEGIN:VEVENT
DTSTART;TZID=Australia/Melbourne:20191012T140000
DTEND;TZID=Australia/Melbourne:20191012T163000
DTSTAMP:20260420T010153
CREATED:20190310T005104Z
LAST-MODIFIED:20190310T005104Z
UID:16447-1570888800-1570897800@bendigoblues.com
SUMMARY:The Blues Tram w/Karrie Hayward + Jarrod Shaw
DESCRIPTION:A super-talented young singer/songwriter from Queensland makes her Blues Tram Debut while a well established Victorian bluesman returns to ride the rails in October 2019. \nEnjoy the sights of Bendigo’s architecturally stunning CBD from on board the sensationally restored vintage W Class tram\, while being serenaded by two great acts: \nKarrie Hayward:\nWhen you blend the rich\, soulful vocal tones with the vibrant\, percussive timbre of a guitar\, you get Karrie Hayward. Drawing inspiration from blues music and guitar heroes such as John Mayer\, Buddy Guy\, BB King; to the more ‘chilled’ sounds of Jack Johnson and Tash Sultana\, Karrie’s own style is a blend of the best parts of folk\, pop\, alt and blues. \nJarrod Shaw:\nJarrod Shaw possesses a passion and appreciation for blues music that becomes obvious from the moment the first note sounds. He delivers a soulful blues inspired show\, performed with conviction.\nJarrod was born and raised in country Victoria\, down the dirt roads of the Macedon Ranges. He taught himself to play guitar listening to the renowned blues greats\, as well as the icons of the Australian and local Melbourne blues scene.\nPerforming countless solo gigs has aided Jarrod in developing a musical style of his own. He blends his unique guitar approach lying somewhere between piedmont fingerstyle and the blues of the delta\, with a powerful voice often described as belying his years. At times he even wails away on a racked blues harp – all at once without missing a beat. If you close your eyes you might even believe there’s more than one person performing… \nSaturday October 12th\nBlues Tram\, feat: Karrie Hayward + Jarrod Shaw\nDeparting Central Deborah Goldmine (76 Violet Street) at 2pm\, returning 4:15pm.\nTix: $39 from Bendigo Visitor Centre 1800 813 513 or online here: https://www.bendigotourism.com/tours/bendigo-cbd/bendigo-blues-tram\nFollow The Blues Tram here: https://www.facebook.com/TheBluesTram \nStrictly no BYO. Drinks and snacks available for purchase. \nThe Blues Tram is organised and staged by Bendigo Blues & Roots Music Festival Inc\, a not-for-profit organisation run by volunteers. \nPlease Note:\nThis is a music appreciation event – a mobile concert. For the enjoyment of all patrons\, any rowdy or loud behavior will not be tolerated. Event management reserves the right to refuse admission or evict patrons if requests to manage behavior are not complied with; in this unlikely event\, tickets of offenders will be forfeited and no refund will be available.
URL:https://bendigoblues.com/event/the-blues-tram-w-karrie-hayward-jarrod-shaw/
LOCATION:The Blues Tram\, 76 Violet Street\, Bendigo\, VIC\, 3550\, Australia
CATEGORIES:The Blues Tram
ATTACH;FMTTYPE=image/jpeg:https://bendigoblues.com/wp-content/uploads/2019/03/Karrie.jpg
END:VEVENT
END:VCALENDAR