BEGIN:VCALENDAR
VERSION:2.0
PRODID:-//Bendigo Blues &amp; Roots - ECPv6.15.18//NONSGML v1.0//EN
CALSCALE:GREGORIAN
METHOD:PUBLISH
X-WR-CALNAME:Bendigo Blues &amp; Roots
X-ORIGINAL-URL:https://bendigoblues.com
X-WR-CALDESC:Events for Bendigo Blues &amp; Roots
REFRESH-INTERVAL;VALUE=DURATION:PT1H
X-Robots-Tag:noindex
X-PUBLISHED-TTL:PT1H
BEGIN:VTIMEZONE
TZID:Australia/Melbourne
BEGIN:STANDARD
TZOFFSETFROM:+1100
TZOFFSETTO:+1000
TZNAME:AEST
DTSTART:20180331T160000
END:STANDARD
BEGIN:DAYLIGHT
TZOFFSETFROM:+1000
TZOFFSETTO:+1100
TZNAME:AEDT
DTSTART:20181006T160000
END:DAYLIGHT
BEGIN:STANDARD
TZOFFSETFROM:+1100
TZOFFSETTO:+1000
TZNAME:AEST
DTSTART:20190406T160000
END:STANDARD
BEGIN:DAYLIGHT
TZOFFSETFROM:+1000
TZOFFSETTO:+1100
TZNAME:AEDT
DTSTART:20191005T160000
END:DAYLIGHT
BEGIN:STANDARD
TZOFFSETFROM:+1100
TZOFFSETTO:+1000
TZNAME:AEST
DTSTART:20200404T160000
END:STANDARD
BEGIN:DAYLIGHT
TZOFFSETFROM:+1000
TZOFFSETTO:+1100
TZNAME:AEDT
DTSTART:20201003T160000
END:DAYLIGHT
END:VTIMEZONE
BEGIN:VEVENT
DTSTART;TZID=Australia/Melbourne:20191108T190000
DTEND;TZID=Australia/Melbourne:20191108T213000
DTSTAMP:20260419T231553
CREATED:20190829T034949Z
LAST-MODIFIED:20190829T034949Z
UID:16654-1573239600-1573248600@bendigoblues.com
SUMMARY:The Blues Tram w/Owen Campbell + The McNaMarr Project
DESCRIPTION:Enjoy the sights of Bendigo’s architecturally stunning CBD from on board the sensationally restored vintage W Class tram\, while being serenaded by two great acts. \nOwen Campbell:\nAfter 4 albums\, 2 EPS and endless international touring Owen Campbell has proven himself to be a festival favourite all over the world. But with this new album and tour he joins forces with some of the best australian musicians to form a raw RocknRoll experience. Owen Campbell and The Frontier Wars is an unforgettable musical experience. Dirty soulful RocknRoll. \nThe McNaMarr Project:\n“The Sound Of Soulful Blues”\n2018 Blues Performer Of The Year\nMcNaMarr Project combine the powerhouse voices of multi-award winning blues artists John McNamara and Andrea Marr.\nWith a mutual love of soulful blues they bring a sound evocative of old school soul\, blues and gospel with their great original material. Formed in May 2018\, the duo immediately went on the Australian Blues festival circuit and proceeded to WIN the Solo/Duo Blues Performer Of The Year Award in September 2018\, sending them to Memphis TN to represent Australian Blues at the International Blues Challenge where they placed as semi-finalists. While in Memphis they signed a world-wide music distribution deal with Memphis label SelectOHits and their debut album is due in 2019. \nFriday November 8th\nBlues Tram\, feat: Owen Campbell + The McNaMarr Project\nDeparting Central Deborah Goldmine (76 Violet Street) at 7pm\, returning 9:30pm.\nTix: $39 from Bendigo Visitor Centre 1800 813 513 or online here: https://www.bendigotourism.com/tours/bendigo-cbd/bendigo-blues-tram\nFollow The Blues Tram here: https://www.facebook.com/TheBluesTram \nStrictly no BYO. Drinks and snacks available for purchase. \nThe Blues Tram is organised and staged by Bendigo Blues & Roots Music Festival Inc\, a not-for-profit organisation run by volunteers. \nPlease Note:\nThis is a music appreciation event – a mobile concert. For the enjoyment of all patrons\, any rowdy or loud behavior will not be tolerated. Event management reserves the right to refuse admission or evict patrons if requests to manage behavior are not complied with; in this unlikely event\, tickets of offenders will be forfeited and no refund will be available.
URL:https://bendigoblues.com/event/the-blues-tram-w-owen-campbell-the-mcnamarr-project/
LOCATION:The Blues Tram\, 76 Violet Street\, Bendigo\, VIC\, 3550\, Australia
CATEGORIES:The Blues Tram
ATTACH;FMTTYPE=image/jpeg:https://bendigoblues.com/wp-content/uploads/2019/08/McNamarr.jpg
END:VEVENT
BEGIN:VEVENT
DTSTART;TZID=Australia/Melbourne:20191109T140000
DTEND;TZID=Australia/Melbourne:20191109T163000
DTSTAMP:20260419T231553
CREATED:20190829T035308Z
LAST-MODIFIED:20190829T035308Z
UID:16657-1573308000-1573317000@bendigoblues.com
SUMMARY:The Blues Tram w/Anna Scionti + Charlie Bedford
DESCRIPTION:Enjoy the sights of Bendigo’s architecturally stunning CBD from on board the sensationally restored vintage W Class tram\, while being serenaded by two great acts. \nAnna Scionti:\nMelbourne blues songstress Anna Scionti (pronounced Shon-tee) is a singer/songwriter guitarist and bottleneck slide player. Scionti’s uninhibited foot stomping blues is honest and raw. On cigar box guitar\, resonator\, lap steel and stomp you will be deeply immersed into her world of electrified rhythmic tunes.\nScionti’s new 2019 album Orphan Diary\, is a collection of original songs telling stories of love\, loss\, and longing from her childhood to now. Having lost both parents in her teenage years\, this album is uninhibited\, raw and unapologetic in its honesty. Orphan Diary marks the follow up to her 2017 self-titled EP which debuted at No.2 on the Australian Blues & Roots Airplay Charts.\nHaving shared the stage with some of Australia’s finest blues players\, including Fiona Boyes and Geoff Achison\, Anna is a regular on the Blues Train as well as festivals including Thredbo Blues Festival (NSW)\, Australian Blues Music Festival (NSW)\, Great Southern Cigar Box Guitar Festival (VIC)\, National Folk Festival (ACT) to name a few. \nCharlie Bedford:\nWhile still a young artist at 18\, Charlie has journeyed to the USA in 2017\, ‘18 & ‘19 to perform at the International Blues Challenge – Youth Showcase in Memphis\, representing the Melbourne Blues Appreciation Society\, as well as playing in both Nashville & Muscle Shoals.\nIn Australia Charlie has played with & been mentored by some of our biggest artists such as; Geoff Achison\, Sweet Felicia\, Jimi Hocking\, Andrea Marr\, Russell Morris & Lloyd Spiegel.\nHe has had the honour of performing in the USA with band members from such great acts as BB King\, Albert Collins\, Ray Charles\, Bonnie Raitt\, & Wilson Pickett.\nCharlie began playing in bars & clubs at 12 years of age & now works as a full-time musician. He performs regularly as a solo artist\, fronting his Band or playing guitar in both The Great Unknown & Hey Gringo.\nCharlie is a fresh act on the scene\, representing the next generation.\nHe’ll get your feet tapping & leave a smile on your face! \nSaturday November 9th\nBlues Tram\, feat: Anna Scionti + Charlie Bedford\nDeparting Central Deborah Goldmine (76 Violet Street) at 2pm\, returning 4:30pm.\nTix: $39 from Bendigo Visitor Centre 1800 813 513 or online here: https://www.bendigotourism.com/tours/bendigo-cbd/bendigo-blues-tram\nFollow The Blues Tram here: https://www.facebook.com/TheBluesTram \nStrictly no BYO. Drinks and snacks available for purchase. \nThe Blues Tram is organised and staged by Bendigo Blues & Roots Music Festival Inc\, a not-for-profit organisation run by volunteers. \nPlease Note:\nThis is a music appreciation event – a mobile concert. For the enjoyment of all patrons\, any rowdy or loud behavior will not be tolerated. Event management reserves the right to refuse admission or evict patrons if requests to manage behavior are not complied with; in this unlikely event\, tickets of offenders will be forfeited and no refund will be available.
URL:https://bendigoblues.com/event/the-blues-tram-w-anna-scionti-charlie-bedford/
LOCATION:The Blues Tram\, 76 Violet Street\, Bendigo\, VIC\, 3550\, Australia
CATEGORIES:The Blues Tram
ATTACH;FMTTYPE=image/jpeg:https://bendigoblues.com/wp-content/uploads/2019/08/Charlie.jpg
END:VEVENT
BEGIN:VEVENT
DTSTART;TZID=Australia/Melbourne:20191109T200000
DTEND;TZID=Australia/Melbourne:20191109T223000
DTSTAMP:20260419T231553
CREATED:20190829T035718Z
LAST-MODIFIED:20190829T035718Z
UID:16660-1573329600-1573338600@bendigoblues.com
SUMMARY:The Blues Tram w/Geoff Achison + Cass Eager (Duo)
DESCRIPTION:Enjoy the sights of Bendigo’s architecturally stunning CBD from on board the sensationally restored vintage W Class tram\, while being serenaded by two great acts. \nCass Eager:\nNamed by folk-blog Timber and Steel as ‘Janis Joplin and Ben Harper’s love-child’\, Cass Eager’s mix of raw blues\, husky soul and lighthearted ditties are all punctuated with her unique whisky-soaked vocals. Emotive\, slightly raspy\, at times tender and at times powerful – Eager’s voice is the driving force of her music.\nInternationally-renowned but defiantly grassroots\, Cass Eager is one of those rare artists that’s mastered everything from the foot-stomping blues to a sensual slow burner. She’s been called ‘one of the best female singers in Australia’ by Richard Glover (ABC)\, and even Diesel claims she could ‘sing the phone book to you and you wouldn’t get bored’. \nGeoff Achison:\nGeoff Achison is an award winning blues-roots artist from Australia known for his energetic live performances and unique guitar mastery. Geoff began his apprenticeship with legendary Australian blues stylist ‘Dutch’ Tilders establishing himself as a fine lead guitarist before striking out with his own. He was an independent music pioneer releasing music on his own record label in the early 90s and touring throughout the USA\, UK & Europe. Geoff’s music has been compared favourably to Eric Clapton and the Allman Brothers Band having a solid foundation in the blues whilst embracing a variety of electric & acoustic styles. His songwriting is original and thoughtful with a wry sense of humour reminiscent at times of Randy Newman\, JJ Cale and Mose Allison. \nSaturday November 9th\nBlues Tram\, feat: Geoff Achison + Cass Eager\nDeparting Central Deborah Goldmine (76 Violet Street) at 8pm\, returning 10:30pm.\nTix: $39 from Bendigo Visitor Centre 1800 813 513 or online here: https://www.bendigotourism.com/tours/bendigo-cbd/bendigo-blues-tram\nFollow The Blues Tram here: https://www.facebook.com/TheBluesTram \nStrictly no BYO. Drinks and snacks available for purchase. \nThe Blues Tram is organised and staged by Bendigo Blues & Roots Music Festival Inc\, a not-for-profit organisation run by volunteers. \nPlease Note:\nThis is a music appreciation event – a mobile concert. For the enjoyment of all patrons\, any rowdy or loud behavior will not be tolerated. Event management reserves the right to refuse admission or evict patrons if requests to manage behavior are not complied with; in this unlikely event\, tickets of offenders will be forfeited and no refund will be available.
URL:https://bendigoblues.com/event/the-blues-tram-w-geoff-achison-cass-eager-duo/
LOCATION:The Blues Tram\, 76 Violet Street\, Bendigo\, VIC\, 3550\, Australia
CATEGORIES:The Blues Tram
ATTACH;FMTTYPE=image/jpeg:https://bendigoblues.com/wp-content/uploads/2019/08/Achison.jpg
END:VEVENT
BEGIN:VEVENT
DTSTART;TZID=Australia/Melbourne:20191110T130000
DTEND;TZID=Australia/Melbourne:20191110T153000
DTSTAMP:20260419T231553
CREATED:20190829T035959Z
LAST-MODIFIED:20191105T023354Z
UID:16663-1573390800-1573399800@bendigoblues.com
SUMMARY:The Blues Tram w/Geoffrey Williams + Buddy Knox
DESCRIPTION:Enjoy the sights of Bendigo’s architecturally stunning CBD from on board the sensationally restored vintage W Class tram\, while being serenaded by two great acts. \nGeoffrey Williams:\nMuch loved UK singer songwriter & loop artist Geoffrey Williams dishes up some soulful delectations of 60s/70s influenced blues\, rhythm and soul with a Caribbean twist!\nHis career highlights include:\n5 albums on major labels such as Atlantic Records and EMI\,\nwriting for artists such as Michael Jackson and Dusty Springfield\,\nplaying at Wembley Arena\, London Jazz Cafe and Montreux Jazz Festival.\nperforming at festivals such as Bendigo Blues & Roots\, Woodford Folk\, Castlemaine State\nHe co-directed The Boite Millenium Chorus’s ‘WINDRUSH’ in 2016 featuring self-penned songs about the story of his parents’ migration from the Caribbean to the UK and was also Australian National Busking Open Champion in 2017!\nExpect to be mesmerised by sweet melodies and irresistible grooves – catch him and you won’t regret it! \nBuddy Knox:\nBuddy Knox is a funky blues man\, described as Australia’s answer to B.B. King\nTamworth-based musician Buddy Knox grew up playing in the family band and has been a working musician his entire life. Buddy has carved up the Blues scene around Australia since 2007\, playing at all the big ticket Australian festivals. He has two Chain awards and won the Sydney Blues Society Performer of the Year twice!\nBuddy is an extraordinary guitarist. His technical capability as a guitarist is outstanding and is matched by his astonishing instinctual grasp of the blues genre. Buddy first picked up a guitar at just ten years of age. His big ambition was to “play like Chuck Berry”. Despite the challenge of practicing on an old worn guitar\, which was missing a string\, Buddy’s goal to play persisted with his natural talent flourishing. Music and playing guitar became Buddy’s lifelong dedication.\nHe has demonstrates a complete grasp of the work of the greats from Robert Johnson to Freddie King and BB King to Buddy Guy. \nSunday November 10th\nBlues Tram\, feat: Geoffrey Williams + Buddy Knox\nDeparting Central Deborah Goldmine (76 Violet Street) at 1pm\, returning 3:30pm.\nTix: $39 from Bendigo Visitor Centre 1800 813 513 or online here: https://www.bendigotourism.com/tours/bendigo-cbd/bendigo-blues-tram\nFollow The Blues Tram here: https://www.facebook.com/TheBluesTram \nStrictly no BYO. Drinks and snacks available for purchase. \nThe Blues Tram is organised and staged by Bendigo Blues & Roots Music Festival Inc\, a not-for-profit organisation run by volunteers. \nPlease Note:\nThis is a music appreciation event – a mobile concert. For the enjoyment of all patrons\, any rowdy or loud behavior will not be tolerated. Event management reserves the right to refuse admission or evict patrons if requests to manage behavior are not complied with; in this unlikely event\, tickets of offenders will be forfeited and no refund will be available.
URL:https://bendigoblues.com/event/the-blues-tram-w-geoffrey-williams-wilson-white/
LOCATION:The Blues Tram\, 76 Violet Street\, Bendigo\, VIC\, 3550\, Australia
CATEGORIES:The Blues Tram
ATTACH;FMTTYPE=image/jpeg:https://bendigoblues.com/wp-content/uploads/2019/08/Williams.jpg
END:VEVENT
END:VCALENDAR