BEGIN:VCALENDAR
VERSION:2.0
PRODID:-//Bendigo Blues &amp; Roots - ECPv6.15.18//NONSGML v1.0//EN
CALSCALE:GREGORIAN
METHOD:PUBLISH
X-ORIGINAL-URL:https://bendigoblues.com
X-WR-CALDESC:Events for Bendigo Blues &amp; Roots
REFRESH-INTERVAL;VALUE=DURATION:PT1H
X-Robots-Tag:noindex
X-PUBLISHED-TTL:PT1H
BEGIN:VTIMEZONE
TZID:UTC
BEGIN:STANDARD
TZOFFSETFROM:+0000
TZOFFSETTO:+0000
TZNAME:UTC
DTSTART:20220101T000000
END:STANDARD
END:VTIMEZONE
BEGIN:VTIMEZONE
TZID:Australia/Melbourne
BEGIN:STANDARD
TZOFFSETFROM:+1100
TZOFFSETTO:+1000
TZNAME:AEST
DTSTART:20230401T160000
END:STANDARD
BEGIN:DAYLIGHT
TZOFFSETFROM:+1000
TZOFFSETTO:+1100
TZNAME:AEDT
DTSTART:20230930T160000
END:DAYLIGHT
BEGIN:STANDARD
TZOFFSETFROM:+1100
TZOFFSETTO:+1000
TZNAME:AEST
DTSTART:20240406T160000
END:STANDARD
BEGIN:DAYLIGHT
TZOFFSETFROM:+1000
TZOFFSETTO:+1100
TZNAME:AEDT
DTSTART:20241005T160000
END:DAYLIGHT
BEGIN:STANDARD
TZOFFSETFROM:+1100
TZOFFSETTO:+1000
TZNAME:AEST
DTSTART:20250405T160000
END:STANDARD
BEGIN:DAYLIGHT
TZOFFSETFROM:+1000
TZOFFSETTO:+1100
TZNAME:AEDT
DTSTART:20251004T160000
END:DAYLIGHT
BEGIN:STANDARD
TZOFFSETFROM:+1100
TZOFFSETTO:+1000
TZNAME:AEST
DTSTART:20260404T160000
END:STANDARD
BEGIN:DAYLIGHT
TZOFFSETFROM:+1000
TZOFFSETTO:+1100
TZNAME:AEDT
DTSTART:20261003T160000
END:DAYLIGHT
END:VTIMEZONE
BEGIN:VEVENT
DTSTART;TZID=UTC:20231014T140000
DTEND;TZID=UTC:20231014T163000
DTSTAMP:20260420T023914
CREATED:20230717T115607Z
LAST-MODIFIED:20230818T115607Z
UID:33025-1697292000-1697301000@bendigoblues.com
SUMMARY:The Blues Tram feat: Geoff Achison + The Lone Vanguard (Dale Lindrea)
DESCRIPTION:Enjoy the sights of Bendigo’s architecturally stunning CBD from on board the sensationally restored vintage Class tram #610\, while being serenaded by two great acts. \nGeoff Achison:\nGeoff began his apprenticeship with legendary Australian bluesman ‘Dutch’ Tilders establishing himself as a fine lead guitarist before striking out with his own. He released his debut album in the early 90s and began touring throughout the USA\, UK & Europe. Geoff’s music has been compared favourably to major artists such as Eric Clapton\, JJ Cale and the Allman Brothers Band having a solid foundation in the blues whilst embracing a variety of music styles. He has won awards for his guitar playing\, songwriting and live performances and was honoured in 2011 as official Patron Of the Melbourne Blues Appreciation Society.\nAs a song-writer\, Geoff explores a myriad of themes from love & loss to politics & philosophy; often with his wry sense of humour shining through. Vocally\, Geoff has been compared favourably to the gruff voiced Joe Cocker\, Warren Haynes and Paul Weller. An extraordinary guitarist who plays quite unlike anyone else\, Geoff has been a driving force on the Australian blues/roots scene inspiring and influencing many of his younger compatriots. \nThe Lone Vanguard:\nDale Lindrea describes his sound as ‘Muddy Water meets Kraftwerk’ with a range of influences that push the boundaries of the Roots music envelope. Dale is one of the most exceptional musicians to be plying his trade on the Oz Blues and Roots stage today. It’s a blessing to have him back on The Blues Tram in 2023! \nSaturday September 9th\nBlues Tram\, feat: Geoff Achison + The Lone Vanguard\nDeparting Central Deborah Goldmine (76 Violet Street) at 2pm\, returning 4:30pm.\nTix: $49.50 from Bendigo Visitor Centre 1800 813 513 or online here: https://www.bendigotourism.com/tours/bendigo-cbd/bendigo-blues-tram \nFollow The Blues Tram here: https://www.facebook.com/TheBluesTram \nStrictly no BYO. Drinks and snacks available for purchase. \nThe Blues Tram is organised and staged by Bendigo Blues & Roots Music Festival Inc\, a not-for-profit organisation run by volunteers. \nPlease Note:\nThis is a music appreciation event – a mobile concert. For the enjoyment of all patrons\, any rowdy or loud behavior will not be tolerated. Event management reserves the right to refuse admission or evict patrons if requests to manage behavior are not complied with; in this unlikely event\, tickets of offenders will be forfeited and no refund will be available.
URL:https://bendigoblues.com/event/the-blues-tram-feat-geoff-achison-the-lone-vanguard-dale-lindrea/
LOCATION:The Blues Tram
CATEGORIES:Old Church On The Hill,Rocks Underground,The Blues Tram
ATTACH;FMTTYPE=image/jpeg:https://bendigoblues.com/wp-content/uploads/2023/07/33025_image_361620299_763370259123769_3157597618295865274_n.jpg
END:VEVENT
BEGIN:VEVENT
DTSTART;TZID=UTC:20231111T140000
DTEND;TZID=UTC:20231111T163000
DTSTAMP:20260420T023914
CREATED:20230717T115605Z
LAST-MODIFIED:20230818T115607Z
UID:33023-1699711200-1699720200@bendigoblues.com
SUMMARY:The Blues Tram feat: Don Morrison + The Backyard Banjo Club!
DESCRIPTION:Enjoy the sights of Bendigo’s architecturally stunning CBD from on board the sensationally restored vintage Class tram #610\, while being serenaded by two great acts. \nDon Morrison is a songwriter\, singer\, guitarist\, guitar maker\, story teller and author. He has shared the stage with many of the biggest names in Australian music\, like Midnight Oil\, Hunters and Collectors\, Joe Camilleri\, Men At Work and a hundred more in more than thirty years in music game.\nHe has worked with Bo Diddly\, Joe Cocker\, Rodriguez. He was brave enough to stand next to Shakin’ Stephens in a urinal and was nearly killed by Willie Nelson in Austin\, Texas.\nHe’s done gigs from Melbourne to Margaret River\, from Sydney to San Antonio\, Perth to Penrith and released fifteen albums and CDs of original songs.\nDon also makes the world renowned Donmo Resonator guitars\, mandolins and ukuleles. There’s now more that 500 of these hand made instruments being played all over the world and the guitars he uses on stage are unique and made from parts of his family history.\nDon has a powerful and engaging stage presence and a captivating narrative in his songs. His songs tell our story with humour\, irony and compassion. \nThe Backyard Banjo Club is a five-piece trad-jazz/bluegrass bonanza. Think Tom Waits meets Django Reinhardt. High energy up-tempo jazz and the occasional sultry ballad\, good times guaranteed.\nThe band consists of: Nathan Power – Banjo/Vox\, Phoebe Lindner – Violin/Vox\, Panfred Reed – Piano Accordian\, Thomas Young – Bass and Sally Rochlin – Sax. \nSaturday November 11th\nBlues Tram\, feat: Don Morrison + The Backyard Banjo Club!\nDeparting Central Deborah Goldmine (76 Violet Street) at 2pm\, returning 4:30pm.\nTix: $49.50 from Bendigo Visitor Centre 1800 813 513 or online here: https://www.bendigotourism.com/tours/bendigo-cbd/bendigo-blues-tram \nFollow The Blues Tram here: https://www.facebook.com/TheBluesTram \nStrictly no BYO. Drinks and snacks available for purchase. \nThe Blues Tram is organised and staged by Bendigo Blues & Roots Music Festival Inc\, a not-for-profit organisation run by volunteers. \nPlease Note:\nThis is a music appreciation event – a mobile concert. For the enjoyment of all patrons\, any rowdy or loud behavior will not be tolerated. Event management reserves the right to refuse admission or evict patrons if requests to manage behavior are not complied with; in this unlikely event\, tickets of offenders will be forfeited and no refund will be available.
URL:https://bendigoblues.com/event/the-blues-tram-feat-don-morrison-the-backyard-banjo-club/
LOCATION:The Blues Tram
CATEGORIES:Old Church On The Hill,Rocks Underground,The Blues Tram
ATTACH;FMTTYPE=image/jpeg:https://bendigoblues.com/wp-content/uploads/2023/07/33023_image_361607195_763376045789857_7533820717499257604_n.jpg
END:VEVENT
BEGIN:VEVENT
DTSTART;TZID=Australia/Melbourne:20240608T140000
DTEND;TZID=Australia/Melbourne:20240608T163000
DTSTAMP:20260420T023914
CREATED:20240523T031110Z
LAST-MODIFIED:20240523T031212Z
UID:33147-1717855200-1717864200@bendigoblues.com
SUMMARY:The Blues Tram feat: TheDeserters (Brooke Taylor & Delsinki) + Jay Howie (solo)
DESCRIPTION:Enjoy the sights of Bendigo’s architecturally stunning CBD from on board the sensationally restored vintage Class tram #610\, while being serenaded by two great acts…\n\nSaturday June 8thBlues Tram\, feat: TheDeserters (Brooke Taylor & Delsinki) + Jay Howie (solo)Departing Central Deborah Goldmine (76 Violet Street) at 2pm\, returning 4:30pm.\nTix: $49.50 from Bendigo Visitor Centre 1800 813 513 or online here: https://www.bendigotourism.com/…/ben…/bendigo-blues-tramFollow The Blues Tram here: https://www.facebook.com/TheBluesTram\nStrictly no BYO. Drinks and snacks available for purchase.\nThe Blues Tram is booked\, promoted and staged by Bendigo Blues & Roots Music Festival Inc\, a not-for-profit organisation run by volunteers.\nPlease Note:This is a music appreciation event – a mobile concert. For the enjoyment of all patrons\, any rowdy or loud behavior will not be tolerated. Event management reserves the right to refuse admission or evict patrons if requests to manage behavior are not complied with; in this unlikely event\, tickets of offenders will be forfeited and no refund will be available.
URL:https://bendigoblues.com/event/blues-tram-featuring-thedeserters-brooke-taylor-delsinki-jay-howie-solo/
LOCATION:The Blues Tram\, Bendigo\, AU
CATEGORIES:The Blues Tram
ATTACH;FMTTYPE=image/png:https://bendigoblues.com/wp-content/uploads/2024/05/Screen-Shot-2024-05-23-at-1.06.11-pm.png
END:VEVENT
BEGIN:VEVENT
DTSTART;TZID=Australia/Melbourne:20240713T140000
DTEND;TZID=Australia/Melbourne:20240713T163000
DTSTAMP:20260420T023914
CREATED:20240523T031640Z
LAST-MODIFIED:20240523T031823Z
UID:33151-1720879200-1720888200@bendigoblues.com
SUMMARY:The Blues Tram feat:  The Piano Wizard Andrew Farrell + Louise MacGregor
DESCRIPTION:Enjoy the sights of Bendigo’s architecturally stunning CBD from on board the sensationally restored vintage Class tram #610\, while being serenaded by two talented acts…\nSaturday July 13thBlues Tram\, feat: The Piano Wizard Andrew Farrell + Louise MacGregorDeparting Central Deborah Goldmine (76 Violet Street) at 2pm\, returning 4:30pm. Tix: $49.50 from Bendigo Visitor Centre 1800 813 513 or online here: https://www.bendigotourism.com/…/ben…/bendigo-blues-tramFollow The Blues Tram here: https://www.facebook.com/TheBluesTram\nStrictly no BYO. Drinks and snacks available for purchase.\nThe Blues Tram is booked\, promoted and staged by Bendigo Blues & Roots Music Festival Inc\, a not-for-profit organisation run by volunteers.\nPlease Note:This is a music appreciation event – a mobile concert. For the enjoyment of all patrons\, any rowdy or loud behavior will not be tolerated. Event management reserves the right to refuse admission or evict patrons if requests to manage behavior are not complied with; in this unlikely event\, tickets of offenders will be forfeited and no refund will be available
URL:https://bendigoblues.com/event/the-blues-tram-feat-the-piano-wizard-andrew-farrell-louise-macgregor/
LOCATION:The Blues Tram\, Bendigo\, AU
CATEGORIES:The Blues Tram
ATTACH;FMTTYPE=image/png:https://bendigoblues.com/wp-content/uploads/2024/05/Screen-Shot-2024-05-23-at-1.15.12-pm.png
END:VEVENT
BEGIN:VEVENT
DTSTART;TZID=Australia/Melbourne:20240810T140000
DTEND;TZID=Australia/Melbourne:20240810T163000
DTSTAMP:20260420T023914
CREATED:20240523T032209Z
LAST-MODIFIED:20240523T033122Z
UID:33154-1723298400-1723307400@bendigoblues.com
SUMMARY:The Blues Tram feat: Jarrod Shaw + Amie Brûlée
DESCRIPTION:Enjoy the sights of Bendigo’s architecturally stunning CBD from on board the sensationally restored vintage Class tram #610\, while being serenaded by two talented acts…\n\nSaturday August 10thBlues Tram\, feat: Jarrod Shaw + Amie BrûléeDeparting Central Deborah Goldmine (76 Violet Street) at 2pm\, returning 4:30pm. Tix: $49.50 from Bendigo Visitor Centre 1800 813 513 or online here: https://www.bendigotourism.com/…/ben…/bendigo-blues-tram\nFollow The Blues Tram here: https://www.facebook.com/TheBluesTram\nStrictly no BYO. Drinks and snacks available for purchase.\nThe Blues Tram is booked\, promoted and staged by Bendigo Blues & Roots Music Festival Inc\, a not-for-profit organisation run by volunteers.\n\nPlease Note:This is a music appreciation event – a mobile concert. For the enjoyment of all patrons\, any rowdy or loud behavior will not be tolerated. Event management reserves the right to refuse admission or evict patrons if requests to manage behavior are not complied with; in this unlikely event\, tickets of offenders will be forfeited and no refund will be available.
URL:https://bendigoblues.com/event/the-blues-tram-feat-jarrod-shaw-amie-brulee/
LOCATION:The Blues Tram\, Bendigo\, AU
CATEGORIES:The Blues Tram
ATTACH;FMTTYPE=image/png:https://bendigoblues.com/wp-content/uploads/2024/05/Screen-Shot-2024-05-23-at-1.20.08-pm.png
END:VEVENT
BEGIN:VEVENT
DTSTART;TZID=Australia/Melbourne:20240914T140000
DTEND;TZID=Australia/Melbourne:20240914T163000
DTSTAMP:20260420T023914
CREATED:20240523T033608Z
LAST-MODIFIED:20240523T033823Z
UID:33159-1726322400-1726331400@bendigoblues.com
SUMMARY:The Blues Tram feat: The Lone Vanguard + The Bishop's Deep Fry
DESCRIPTION:Enjoy the sights of Bendigo’s architecturally stunning CBD from on board the sensationally restored vintage Class tram #610\, while being serenaded by two talented acts…\n\nSaturday September 14thBlues Tram\, feat: The Lone Vanguard + The Bishop’s Deep FryDeparting Central Deborah Goldmine (76 Violet Street) at 2pm\, returning 4:30pm.\nTix: $49.50 from Bendigo Visitor Centre 1800 813 513 or online here: https://www.bendigotourism.com/…/ben…/bendigo-blues-tram\nFollow The Blues Tram here: https://www.facebook.com/TheBluesTram\nStrictly no BYO. Drinks and snacks available for purchase.\n\nThe Blues Tram is booked\, promoted and staged by Bendigo Blues & Roots Music Festival Inc\, a not-for-profit organisation run by volunteers.\n\nPlease Note:This is a music appreciation event – a mobile concert. For the enjoyment of all patrons\, any rowdy or loud behavior will not be tolerated. Event management reserves the right to refuse admission or evict patrons if requests to manage behavior are not complied with; in this unlikely event\, tickets of offenders will be forfeited and no refund will be available.
URL:https://bendigoblues.com/event/the-blues-tram-feat-the-lone-vanguard-the-bishops-deep-fry/
LOCATION:The Blues Tram\, Bendigo\, AU
CATEGORIES:The Blues Tram
ATTACH;FMTTYPE=image/png:https://bendigoblues.com/wp-content/uploads/2024/05/Screen-Shot-2024-05-23-at-1.33.57-pm.png
END:VEVENT
BEGIN:VEVENT
DTSTART;TZID=Australia/Melbourne:20241012T140000
DTEND;TZID=Australia/Melbourne:20241012T163000
DTSTAMP:20260420T023914
CREATED:20240523T034229Z
LAST-MODIFIED:20240523T034229Z
UID:33162-1728741600-1728750600@bendigoblues.com
SUMMARY:The Blues Tram feat: Archer + Matt Katsis
DESCRIPTION:Enjoy the sights of Bendigo’s architecturally stunning CBD from on board the sensationally restored vintage Class tram #610\, while being serenaded by two talented acts…\n\nSaturday October 12thBlues Tram\, feat: Archer + Matt KatsisDeparting Central Deborah Goldmine (76 Violet Street) at 2pm\, returning 4:30pm. Tix: $49.50 from Bendigo Visitor Centre 1800 813 513 or online here: https://www.bendigotourism.com/…/ben…/bendigo-blues-tram\nFollow The Blues Tram here: https://www.facebook.com/TheBluesTram\nStrictly no BYO. Drinks and snacks available for purchase.\n\nThe Blues Tram is booked\, promoted and staged by Bendigo Blues & Roots Music Festival Inc\, a not-for-profit organisation run by volunteers.\n\nPlease Note:This is a music appreciation event – a mobile concert. For the enjoyment of all patrons\, any rowdy or loud behavior will not be tolerated. Event management reserves the right to refuse admission or evict patrons if requests to manage behavior are not complied with; in this unlikely event\, tickets of offenders will be forfeited and no refund will be available.
URL:https://bendigoblues.com/event/the-blues-tram-feat-archer-matt-katsis/
LOCATION:The Blues Tram\, Bendigo\, AU
CATEGORIES:The Blues Tram
ATTACH;FMTTYPE=image/png:https://bendigoblues.com/wp-content/uploads/2024/05/Screen-Shot-2024-05-23-at-1.41.38-pm.png
END:VEVENT
BEGIN:VEVENT
DTSTART;TZID=Australia/Melbourne:20241109T140000
DTEND;TZID=Australia/Melbourne:20241109T163000
DTSTAMP:20260420T023914
CREATED:20240523T034548Z
LAST-MODIFIED:20241022T015649Z
UID:33165-1731160800-1731169800@bendigoblues.com
SUMMARY:The Blues Tram feat: George Kamikawa + Sherri Parry
DESCRIPTION:Enjoy the sights of Bendigo’s architecturally stunning CBD from on board the sensationally restored vintage Class tram #610\, while being serenaded by two talented acts…\n\nSaturday November 9thBlues Tram\, feat: George Kamikawa + Sherri ParryDeparting Central Deborah Goldmine (76 Violet Street) at 2pm\, returning 4:30pm.\nTix: $49.50 from Bendigo Visitor Centre 1800 813 513 or online here: https://www.bendigotourism.com/…/ben…/bendigo-blues-tramFollow The Blues Tram here: https://www.facebook.com/TheBluesTram\n\nStrictly no BYO. Drinks and snacks available for purchase.\nThe Blues Tram is booked\, promoted and staged by Bendigo Blues & Roots Music Festival Inc\, a not-for-profit organisation run by volunteers.\n\nPlease Note:This is a music appreciation event – a mobile concert. For the enjoyment of all patrons\, any rowdy or loud behavior will not be tolerated. Event management reserves the right to refuse admission or evict patrons if requests to manage behavior are not complied with; in this unlikely event\, tickets of offenders will be forfeited and no refund will be available.
URL:https://bendigoblues.com/event/the-blues-tram-feat-george-kamikawa-and-sherri-parry/
LOCATION:The Blues Tram\, Bendigo\, AU
CATEGORIES:The Blues Tram
ATTACH;FMTTYPE=image/png:https://bendigoblues.com/wp-content/uploads/2024/05/Screen-Shot-2024-05-23-at-1.44.15-pm.png
END:VEVENT
BEGIN:VEVENT
DTSTART;TZID=Australia/Melbourne:20250913T140000
DTEND;TZID=Australia/Melbourne:20250913T162000
DTSTAMP:20260420T023914
CREATED:20250829T060506Z
LAST-MODIFIED:20250829T060506Z
UID:33249-1757772000-1757780400@bendigoblues.com
SUMMARY:Blues Tram\, feat: Jarrod Shaw + Georgia Rodgers
DESCRIPTION:Enjoy the sights of Bendigo’s architecturally stunning CBD from on board the sensationally restored vintage Class tram #610\, while being serenaded by two talented acts…\nSaturday September 13thBlues Tram\, feat: Jarrod Shaw + Georgia RodgersDeparting Central Deborah Goldmine (76 Violet Street) at 2pm\, returning by 4:30pm.Tix: $49.50 from Bendigo Visitor Centre 1800 813 513 or online here: https://www.bendigotourism.com/…/ben…/bendigo-blues-tramFollow The Blues Tram here: https://www.facebook.com/TheBluesTram\nStrictly no BYO. Drinks and snacks available for purchase.\nThe Blues Tram is booked\, promoted and staged by Bendigo Blues & Roots Music Festival Inc\, a not-for-profit organisation run by volunteers.\nPlease Note:This is a music appreciation event – a mobile concert. For the enjoyment of all patrons\, any rowdy or loud behavior will not be tolerated. Event management reserves the right to refuse admission or evict patrons if requests to manage behavior are not complied with; in this unlikely event\, tickets of offenders will be forfeited and no refund will be available.
URL:https://bendigoblues.com/event/blues-tram-feat-jarrod-shaw-georgia-rodgers/
LOCATION:Departs from Central Deborah Goldmine\, 76 Violet Street\, Bendigo\, Victoria\, 3550\, Australia
CATEGORIES:The Blues Tram
ATTACH;FMTTYPE=image/jpeg:https://bendigoblues.com/wp-content/uploads/2025/08/513089428_1292849632842493_4604093598095296521_n.jpg
END:VEVENT
BEGIN:VEVENT
DTSTART;TZID=Australia/Melbourne:20251011T140000
DTEND;TZID=Australia/Melbourne:20251011T163000
DTSTAMP:20260420T023914
CREATED:20250829T071828Z
LAST-MODIFIED:20250829T071828Z
UID:33259-1760191200-1760200200@bendigoblues.com
SUMMARY:The Blues Tram\, feat: Enamel Mammal + Tony J King
DESCRIPTION:Enjoy the sights of Bendigo’s architecturally stunning CBD from on board the sensationally restored vintage Class tram #610\, while being serenaded by two talented acts…\nSaturday October 11thBlues Tram\, feat: Enamel Mammal + Tony J KingDeparting Central Deborah Goldmine (76 Violet Street) at 2pm\, returning by 4:30pm.Tix: $49.50 from Bendigo Visitor Centre 1800 813 513 or online here: https://www.bendigotourism.com/…/ben…/bendigo-blues-tramFollow The Blues Tram here: https://www.facebook.com/TheBluesTram\nStrictly no BYO. Drinks and snacks available for purchase.\nThe Blues Tram is booked\, promoted and staged by Bendigo Blues & Roots Music Festival Inc\, a not-for-profit organisation run by volunteers.\nPlease Note:This is a music appreciation event – a mobile concert. For the enjoyment of all patrons\, any rowdy or loud behavior will not be tolerated. Event management reserves the right to refuse admission or evict patrons if requests to manage behavior are not complied with; in this unlikely event\, tickets of offenders will be forfeited and no refund will be available.
URL:https://bendigoblues.com/event/the-blues-tram-feat-enamel-mammal-tony-j-king/
LOCATION:Departs from Central Deborah Goldmine\, 76 Violet Street\, Bendigo\, Victoria\, 3550\, Australia
CATEGORIES:The Blues Tram
ATTACH;FMTTYPE=image/jpeg:https://bendigoblues.com/wp-content/uploads/2025/08/512719106_1292964302831026_1305130843871710949_n.jpg
ORGANIZER;CN="Bendigo Blues & Roots Music Festival Inc.":MAILTO:bendigoblues@gmail.com
END:VEVENT
END:VCALENDAR