BEGIN:VCALENDAR
VERSION:2.0
PRODID:-//Bendigo Blues &amp; Roots - ECPv6.15.18//NONSGML v1.0//EN
CALSCALE:GREGORIAN
METHOD:PUBLISH
X-WR-CALNAME:Bendigo Blues &amp; Roots
X-ORIGINAL-URL:https://bendigoblues.com
X-WR-CALDESC:Events for Bendigo Blues &amp; Roots
REFRESH-INTERVAL;VALUE=DURATION:PT1H
X-Robots-Tag:noindex
X-PUBLISHED-TTL:PT1H
BEGIN:VTIMEZONE
TZID:Australia/Melbourne
BEGIN:STANDARD
TZOFFSETFROM:+1100
TZOFFSETTO:+1000
TZNAME:AEST
DTSTART:20150404T160000
END:STANDARD
BEGIN:DAYLIGHT
TZOFFSETFROM:+1000
TZOFFSETTO:+1100
TZNAME:AEDT
DTSTART:20151003T160000
END:DAYLIGHT
BEGIN:STANDARD
TZOFFSETFROM:+1100
TZOFFSETTO:+1000
TZNAME:AEST
DTSTART:20160402T160000
END:STANDARD
BEGIN:DAYLIGHT
TZOFFSETFROM:+1000
TZOFFSETTO:+1100
TZNAME:AEDT
DTSTART:20161001T160000
END:DAYLIGHT
BEGIN:STANDARD
TZOFFSETFROM:+1100
TZOFFSETTO:+1000
TZNAME:AEST
DTSTART:20170401T160000
END:STANDARD
BEGIN:DAYLIGHT
TZOFFSETFROM:+1000
TZOFFSETTO:+1100
TZNAME:AEDT
DTSTART:20170930T160000
END:DAYLIGHT
END:VTIMEZONE
BEGIN:VEVENT
DTSTART;TZID=Australia/Melbourne:20160910T140000
DTEND;TZID=Australia/Melbourne:20160910T161500
DTSTAMP:20260424T081822
CREATED:20160618T113417Z
LAST-MODIFIED:20170524T090651Z
UID:1263-1473516000-1473524100@bendigoblues.com
SUMMARY:Blues Tram\, feat: White Lightning + Graciana Holland
DESCRIPTION:Take in up close and personal performances from White Lighting and Graciana Holland as you ride through the streets of Bendigo aboard the historic Blues Tram. \nThere’s a unique way to enjoying live music as part of the Bendigo Blues & Roots Music Festival: the Blues Tram. This exciting new concept combines two of Bendigo’s best attractions- its historic trams and sublime music talent. \nEnjoy a relaxed drink at Central Deborah Goldmine\, before boarding the tram and leisurely rolling through the streets of the city as some of the festival’s finest talent performs\, up close and personal. \nAfter taking a pit stop at the Joss House\, the tram then turns back towards the mine. \nThe trams have been a big hit with music lovers so far\, and Festival director Colin Thompson said the trams were not to be missed: “The Blues Tram offers a truly unique experience\, which you simply won’t find anywhere else.” \nTickets are limited and can be purchased from the Visitor Centre on 1800 813 513 or you can book here.
URL:https://bendigoblues.com/event/blues-tram-feat-white-lightning-sleepy-west/
LOCATION:Departs from Central Deborah Goldmine\, 76 Violet Street\, Bendigo\, Victoria\, 3550\, Australia
CATEGORIES:The Blues Tram
ATTACH;FMTTYPE=image/png:https://bendigoblues.com/wp-content/uploads/2016/06/Blues-Tram-White-Lighting-Graciana-Holland-1.png
END:VEVENT
BEGIN:VEVENT
DTSTART;TZID=Australia/Melbourne:20160827T193000
DTEND;TZID=Australia/Melbourne:20160827T193000
DTSTAMP:20260424T081822
CREATED:20160821T100639Z
LAST-MODIFIED:20160821T100639Z
UID:1901-1472326200-1472326200@bendigoblues.com
SUMMARY:John Flanagan Trio and Alanna & Alicia in Bendigo
DESCRIPTION:The John Flanagan Trio will be bringing their warm harmonies and bluegrass inspired arrangements to venues around Victoria this winter building on the success of John’s recent album release. In this special double bill show they will join forces with Alanna & Alicia\, twin sisters who blend folk\, jazz and roots in their original\, acoustic songs. \nJohn’s engaging lyricism\, uplifting melodies and warm vocal timbre have seen him draw comparisons to James Taylor and Paul Kelly and described as a “songwriting force” of a new generation. His latest album\, ‘There’s Another Way to Where You’re Going’ was recorded in Nashville with producer Viktor Krauss and has been a radio favourite. \nKnown for their sweet\, sibling harmonies and fine songwriting\, Alanna & Alicia have charmed audiences from the National Folk Festival\, Canberra to Fairbridge\, Western Australia with their onstage warmth\, wit and sense of fun. Their lyrics\, equal parts heart and humour\, sparkle with an original\, intimate voice that is rare in songwriters today. \nThis will be a special night of vocal fusion\, humour and collaboration.
URL:https://bendigoblues.com/event/john-flanagan-trio-and-alanna-alicia-in-bendigo/
LOCATION:The Old Church on the Hill\, Cnr Harkness & Russell St\, Quarry Hill\, Bendigo\, VIC\, 3550\, Australia
ATTACH;FMTTYPE=image/jpeg:https://bendigoblues.com/wp-content/uploads/2016/08/13895280_10153596711066020_3767999546491022660_n.jpg
END:VEVENT
BEGIN:VEVENT
DTSTART;TZID=Australia/Melbourne:20160827T130000
DTEND;TZID=Australia/Melbourne:20160827T161500
DTSTAMP:20260424T081822
CREATED:20160821T100109Z
LAST-MODIFIED:20160827T061631Z
UID:1894-1472302800-1472314500@bendigoblues.com
SUMMARY:Miles Ahead Fundraiser Screening
DESCRIPTION:Star Cinema has thrown their support behind Bendigo Blues & Roots Music Festival by hosting this fundraiser screening of ‘Miles Ahead’ on Saturday 27 August\, 2016. \nTickets are only $20 and doors open at 1pm for a mix-and-mingle with drinks at bar prices and live music provided by Funk Junkies. ‘Miles Ahead’\, the acclaimed biopic of Miles Davis\, will kick off at 2:15pm. \nBookings contact Gayle by phone or SMS on 0428 632 259.
URL:https://bendigoblues.com/event/miles-ahead-fundraiser-screening/
LOCATION:Star Cinema\, Peg Leg Rd\, Eaglehawk\, VIC\, 3556\, Australia
ATTACH;FMTTYPE=image/png:https://bendigoblues.com/wp-content/uploads/2016/08/Screen-Shot-2016-08-21-at-8.00.23-PM.png
END:VEVENT
BEGIN:VEVENT
DTSTART;TZID=Australia/Melbourne:20160826T193000
DTEND;TZID=Australia/Melbourne:20160826T193000
DTSTAMP:20260424T081822
CREATED:20160821T095651Z
LAST-MODIFIED:20160821T095651Z
UID:1889-1472239800-1472239800@bendigoblues.com
SUMMARY:Seed CD Launch
DESCRIPTION:Hope you can support us. Launching the CD that has overcome 25 years of procrastination. A special night\, with Brett Garsed sitting in on guitar and our mate Hamish Davidson playing anything he likes. \nWe will be bringing up a young fusion band from Victorian College of the Arts too! I am hoping to make this free entry\, but would appreciate everyone buying a CD to help us cover costs. It’s not bad! $5 from every CD donated to the Bendigo Blues and Roots Festival.
URL:https://bendigoblues.com/event/seed-cd-launch/
LOCATION:Goldmines Hotel\, 49 - 57 Marong Road\, Bendigo \, VIC\, 3555\, Australia
ATTACH;FMTTYPE=image/jpeg:https://bendigoblues.com/wp-content/uploads/2016/08/Seed.jpg
END:VEVENT
END:VCALENDAR