BEGIN:VCALENDAR
VERSION:2.0
PRODID:-//Bendigo Blues &amp; Roots - ECPv6.15.18//NONSGML v1.0//EN
CALSCALE:GREGORIAN
METHOD:PUBLISH
X-ORIGINAL-URL:https://bendigoblues.com
X-WR-CALDESC:Events for Bendigo Blues &amp; Roots
REFRESH-INTERVAL;VALUE=DURATION:PT1H
X-Robots-Tag:noindex
X-PUBLISHED-TTL:PT1H
BEGIN:VTIMEZONE
TZID:UTC
BEGIN:STANDARD
TZOFFSETFROM:+0000
TZOFFSETTO:+0000
TZNAME:UTC
DTSTART:20210101T000000
END:STANDARD
END:VTIMEZONE
BEGIN:VEVENT
DTSTART;TZID=UTC:20221103T200000
DTEND;TZID=UTC:20221103T220000
DTSTAMP:20260420T034205
CREATED:20220802T232834Z
LAST-MODIFIED:20220802T232908Z
UID:32127-1667505600-1667512800@bendigoblues.com
SUMMARY:Colin Hay Solo 2022
DESCRIPTION:Considered by critics as one of the most revered storytellers on the live music scene\, Colin Hay kicks off his Australian Tour at The Capital on November 3rd with a highly anticipated solo jaunt on his first solo tour Down Under in years to promote his new album. \nDescribed by American Songwriter as “an album for the ages”\, Hay’s latest body of work\, Now And The Evermore\, has been praised by reviewers for embodying all the elements of good storytelling and artistry. \nFew performers can hold an audience hostage with a relatable yarn as Colin Hay can. These intermissions between songs are the comic relief that offsets the brilliance of his musicality. There’s a sense of reckoning and realisation in each track that cuts deeply but leaves audiences feeling strangely optimistic. \nThe former frontman of seminal 80s outfit Men At Work has released fifteen albums during a successful solo career that spans three decades and has recently been touring the US with Ringo Starr and his All-Star Band. He looks forward to giving Australia a taste of his latest work. \nColin Hay is not someone who can be “DVR’ed” or timeshifted. He must be seen live to fully appreciate the high-definition brilliance and dynamic range of his skills. – Inner Edge Music \nColin Hay Solo 2022 is proudly presented as part of the 2022 Bendigo Blues and Roots Music Festival. \nGotix eNews subscribers can book now! \nTickets go on sale to the general public at 9.00am Friday 22 July. \nBook now
URL:https://bendigoblues.com/event/colin-hay-solo-2022/
LOCATION:The Capital\, 50 View St\, Bendigo\, VIC\, 3550\, Australia
CATEGORIES:Gigs
ATTACH;FMTTYPE=image/jpeg:https://bendigoblues.com/wp-content/uploads/2022/08/5d42c81b-7f6d-bf42-7398-125a440289a3.jpg
END:VEVENT
END:VCALENDAR